BEGIN:VCALENDAR
VERSION:2.0
PRODID:-//Temple Hesed - ECPv6.15.20//NONSGML v1.0//EN
CALSCALE:GREGORIAN
METHOD:PUBLISH
X-WR-CALNAME:Temple Hesed
X-ORIGINAL-URL:https://templehesed.org
X-WR-CALDESC:Events for Temple Hesed
REFRESH-INTERVAL;VALUE=DURATION:PT1H
X-Robots-Tag:noindex
X-PUBLISHED-TTL:PT1H
BEGIN:VTIMEZONE
TZID:UTC
BEGIN:STANDARD
TZOFFSETFROM:+0000
TZOFFSETTO:+0000
TZNAME:UTC
DTSTART:20250101T000000
END:STANDARD
END:VTIMEZONE
BEGIN:VEVENT
DTSTART;TZID=UTC:20260301T100000
DTEND;TZID=UTC:20260301T113000
DTSTAMP:20260421T224401
CREATED:20251216T161522Z
LAST-MODIFIED:20251216T161522Z
UID:10000428-1772359200-1772364600@templehesed.org
SUMMARY:No Religious School
DESCRIPTION:We will not be holding class for the religious school.
URL:https://templehesed.org/event/no-religious-school/2026-03-01/
CATEGORIES:calendar,Youth Religious School
END:VEVENT
END:VCALENDAR