BEGIN:VCALENDAR
VERSION:2.0
PRODID:-//Temple Hesed - ECPv6.15.20//NONSGML v1.0//EN
CALSCALE:GREGORIAN
METHOD:PUBLISH
X-ORIGINAL-URL:https://templehesed.org
X-WR-CALDESC:Events for Temple Hesed
REFRESH-INTERVAL;VALUE=DURATION:PT1H
X-Robots-Tag:noindex
X-PUBLISHED-TTL:PT1H
BEGIN:VTIMEZONE
TZID:UTC
BEGIN:STANDARD
TZOFFSETFROM:+0000
TZOFFSETTO:+0000
TZNAME:UTC
DTSTART:20250101T000000
END:STANDARD
END:VTIMEZONE
BEGIN:VEVENT
DTSTART;TZID=UTC:20260320T180000
DTEND;TZID=UTC:20260320T190000
DTSTAMP:20260422T012610
CREATED:20260312T174703Z
LAST-MODIFIED:20260312T174731Z
UID:10000476-1774029600-1774033200@templehesed.org
SUMMARY:3rd Friday Shabbat Dinner | Foods from the Former Soviet Union
DESCRIPTION:Join us for a special community dinner featuring traditional dishes from the former Soviet Union. Gather around the table with us for a warm\, welcoming evening as you enjoy classic Eastern European cuisine. \nMenu includes: \n\nShuba (“Herring Under a Fur Coat”) — a layered cold casserole with pickled herring\, potatoes\, hard-boiled egg\, mayonnaise\, and shredded beet\nSalat Olivier — a classic cold loaded potato salad dressed in mayo\nKotleti — chicken croquettes\nVareniki — stuffed wheat flour dumplings (vegetarian)\nAssorted breads and pickled vegetables\nTea and cake\n\nDinner is generously donated by the Rozman and Trushina families. \nGuests are welcome to bring an Eastern European-inspired dish to share\, but this is completely optional. \nPlease RSVP by Tuesday so we can plan accordingly. \nWe look forward to sharing a delicious evening together. \nTHEME: Foods from the Former Soviet Union – please RSVP by Tuesday\, March 17 https://www.zeffy.com/en-US/ticketing/shabbat-dinner-food-from-the-former-soviet-union \nPlease indicate what you will be bringing (dish & details)\, how many adults & children will be attending\, and if you are able to help set up &/or clean up.
URL:https://templehesed.org/event/3rd-friday-shabbat-dinner-foods-from-the-former-soviet-union/
LOCATION:Temple Hesed\, 1 Knox Road\, Scranton\, PA\, 18505\, United States
CATEGORIES:calendar,Services
ATTACH;FMTTYPE=image/png:https://templehesed.org/wp-content/uploads/2026/03/URJ-logo-.png
ORGANIZER;CN="Temple Hesed":MAILTO:templehesed@comcast.net
END:VEVENT
END:VCALENDAR