BEGIN:VCALENDAR
VERSION:2.0
PRODID:-//Temple Hesed - ECPv6.15.20//NONSGML v1.0//EN
CALSCALE:GREGORIAN
METHOD:PUBLISH
X-ORIGINAL-URL:https://templehesed.org
X-WR-CALDESC:Events for Temple Hesed
REFRESH-INTERVAL;VALUE=DURATION:PT1H
X-Robots-Tag:noindex
X-PUBLISHED-TTL:PT1H
BEGIN:VTIMEZONE
TZID:UTC
BEGIN:STANDARD
TZOFFSETFROM:+0000
TZOFFSETTO:+0000
TZNAME:UTC
DTSTART:20250101T000000
END:STANDARD
END:VTIMEZONE
BEGIN:VEVENT
DTSTART;TZID=UTC:20261016T190000
DTEND;TZID=UTC:20261016T203000
DTSTAMP:20260421T183150
CREATED:20250428T182543Z
LAST-MODIFIED:20260216T234500Z
UID:10000211-1792177200-1792182600@templehesed.org
SUMMARY:Services
DESCRIPTION:Shabbat services begin at 7:00 PM (except on the First Friday of every month when services begin at 6:00 PM)
URL:https://templehesed.org/event/services-2/2026-10-16/
LOCATION:Temple Hesed\, 1 Knox Road\, Scranton\, PA\, 18505\, United States
CATEGORIES:calendar,Services
ORGANIZER;CN="Temple Hesed":MAILTO:templehesed@comcast.net
END:VEVENT
BEGIN:VEVENT
DTSTART;TZID=UTC:20261023T190000
DTEND;TZID=UTC:20261023T203000
DTSTAMP:20260421T183150
CREATED:20250428T182543Z
LAST-MODIFIED:20260216T234500Z
UID:10000212-1792782000-1792787400@templehesed.org
SUMMARY:Services
DESCRIPTION:Shabbat services begin at 7:00 PM (except on the First Friday of every month when services begin at 6:00 PM)
URL:https://templehesed.org/event/services-2/2026-10-23/
LOCATION:Temple Hesed\, 1 Knox Road\, Scranton\, PA\, 18505\, United States
CATEGORIES:calendar,Services
ORGANIZER;CN="Temple Hesed":MAILTO:templehesed@comcast.net
END:VEVENT
BEGIN:VEVENT
DTSTART;TZID=UTC:20261030T190000
DTEND;TZID=UTC:20261030T203000
DTSTAMP:20260421T183150
CREATED:20250428T182543Z
LAST-MODIFIED:20260216T234500Z
UID:10000213-1793386800-1793392200@templehesed.org
SUMMARY:Services
DESCRIPTION:Shabbat services begin at 7:00 PM (except on the First Friday of every month when services begin at 6:00 PM)
URL:https://templehesed.org/event/services-2/2026-10-30/
LOCATION:Temple Hesed\, 1 Knox Road\, Scranton\, PA\, 18505\, United States
CATEGORIES:calendar,Services
ORGANIZER;CN="Temple Hesed":MAILTO:templehesed@comcast.net
END:VEVENT
BEGIN:VEVENT
DTSTART;TZID=UTC:20261106T180000
DTEND;TZID=UTC:20261106T190000
DTSTAMP:20260421T183150
CREATED:20250428T182000Z
LAST-MODIFIED:20250428T182000Z
UID:10000101-1793988000-1793991600@templehesed.org
SUMMARY:Services
DESCRIPTION:First Friday of every month Shabbat services begin at 6:00 PM.
URL:https://templehesed.org/event/services/2026-11-06/
LOCATION:Temple Hesed\, 1 Knox Road\, Scranton\, PA\, 18505\, United States
CATEGORIES:Services
ORGANIZER;CN="Temple Hesed":MAILTO:templehesed@comcast.net
END:VEVENT
BEGIN:VEVENT
DTSTART;TZID=UTC:20261106T190000
DTEND;TZID=UTC:20261106T203000
DTSTAMP:20260421T183150
CREATED:20250428T182543Z
LAST-MODIFIED:20260216T234500Z
UID:10000214-1793991600-1793997000@templehesed.org
SUMMARY:Services
DESCRIPTION:Shabbat services begin at 7:00 PM (except on the First Friday of every month when services begin at 6:00 PM)
URL:https://templehesed.org/event/services-2/2026-11-06/
LOCATION:Temple Hesed\, 1 Knox Road\, Scranton\, PA\, 18505\, United States
CATEGORIES:calendar,Services
ORGANIZER;CN="Temple Hesed":MAILTO:templehesed@comcast.net
END:VEVENT
BEGIN:VEVENT
DTSTART;TZID=UTC:20261113T190000
DTEND;TZID=UTC:20261113T203000
DTSTAMP:20260421T183150
CREATED:20250428T182543Z
LAST-MODIFIED:20260216T234500Z
UID:10000215-1794596400-1794601800@templehesed.org
SUMMARY:Services
DESCRIPTION:Shabbat services begin at 7:00 PM (except on the First Friday of every month when services begin at 6:00 PM)
URL:https://templehesed.org/event/services-2/2026-11-13/
LOCATION:Temple Hesed\, 1 Knox Road\, Scranton\, PA\, 18505\, United States
CATEGORIES:calendar,Services
ORGANIZER;CN="Temple Hesed":MAILTO:templehesed@comcast.net
END:VEVENT
BEGIN:VEVENT
DTSTART;TZID=UTC:20261120T190000
DTEND;TZID=UTC:20261120T203000
DTSTAMP:20260421T183150
CREATED:20250428T182543Z
LAST-MODIFIED:20260216T234500Z
UID:10000216-1795201200-1795206600@templehesed.org
SUMMARY:Services
DESCRIPTION:Shabbat services begin at 7:00 PM (except on the First Friday of every month when services begin at 6:00 PM)
URL:https://templehesed.org/event/services-2/2026-11-20/
LOCATION:Temple Hesed\, 1 Knox Road\, Scranton\, PA\, 18505\, United States
CATEGORIES:calendar,Services
ORGANIZER;CN="Temple Hesed":MAILTO:templehesed@comcast.net
END:VEVENT
BEGIN:VEVENT
DTSTART;TZID=UTC:20261127T190000
DTEND;TZID=UTC:20261127T203000
DTSTAMP:20260421T183150
CREATED:20250428T182543Z
LAST-MODIFIED:20260216T234500Z
UID:10000217-1795806000-1795811400@templehesed.org
SUMMARY:Services
DESCRIPTION:Shabbat services begin at 7:00 PM (except on the First Friday of every month when services begin at 6:00 PM)
URL:https://templehesed.org/event/services-2/2026-11-27/
LOCATION:Temple Hesed\, 1 Knox Road\, Scranton\, PA\, 18505\, United States
CATEGORIES:calendar,Services
ORGANIZER;CN="Temple Hesed":MAILTO:templehesed@comcast.net
END:VEVENT
BEGIN:VEVENT
DTSTART;TZID=UTC:20261204T180000
DTEND;TZID=UTC:20261204T190000
DTSTAMP:20260421T183150
CREATED:20250428T182000Z
LAST-MODIFIED:20250428T182000Z
UID:10000102-1796407200-1796410800@templehesed.org
SUMMARY:Services
DESCRIPTION:First Friday of every month Shabbat services begin at 6:00 PM.
URL:https://templehesed.org/event/services/2026-12-04/
LOCATION:Temple Hesed\, 1 Knox Road\, Scranton\, PA\, 18505\, United States
CATEGORIES:Services
ORGANIZER;CN="Temple Hesed":MAILTO:templehesed@comcast.net
END:VEVENT
BEGIN:VEVENT
DTSTART;TZID=UTC:20261204T190000
DTEND;TZID=UTC:20261204T203000
DTSTAMP:20260421T183150
CREATED:20250428T182543Z
LAST-MODIFIED:20260216T234500Z
UID:10000218-1796410800-1796416200@templehesed.org
SUMMARY:Services
DESCRIPTION:Shabbat services begin at 7:00 PM (except on the First Friday of every month when services begin at 6:00 PM)
URL:https://templehesed.org/event/services-2/2026-12-04/
LOCATION:Temple Hesed\, 1 Knox Road\, Scranton\, PA\, 18505\, United States
CATEGORIES:calendar,Services
ORGANIZER;CN="Temple Hesed":MAILTO:templehesed@comcast.net
END:VEVENT
BEGIN:VEVENT
DTSTART;TZID=UTC:20261205T183000
DTEND;TZID=UTC:20261212T193000
DTSTAMP:20260421T183151
CREATED:20241108T182901Z
LAST-MODIFIED:20241108T182901Z
UID:10000024-1796495400-1797103800@templehesed.org
SUMMARY:Hanukkah (Festival Of Lights)
DESCRIPTION:
URL:https://templehesed.org/event/hanukkah-festival-of-lights-3/
CATEGORIES:Holidays
END:VEVENT
BEGIN:VEVENT
DTSTART;TZID=UTC:20261211T190000
DTEND;TZID=UTC:20261211T203000
DTSTAMP:20260421T183151
CREATED:20250428T182543Z
LAST-MODIFIED:20260216T234500Z
UID:10000219-1797015600-1797021000@templehesed.org
SUMMARY:Services
DESCRIPTION:Shabbat services begin at 7:00 PM (except on the First Friday of every month when services begin at 6:00 PM)
URL:https://templehesed.org/event/services-2/2026-12-11/
LOCATION:Temple Hesed\, 1 Knox Road\, Scranton\, PA\, 18505\, United States
CATEGORIES:calendar,Services
ORGANIZER;CN="Temple Hesed":MAILTO:templehesed@comcast.net
END:VEVENT
BEGIN:VEVENT
DTSTART;TZID=UTC:20261218T190000
DTEND;TZID=UTC:20261218T203000
DTSTAMP:20260421T183151
CREATED:20250428T182543Z
LAST-MODIFIED:20260216T234500Z
UID:10000220-1797620400-1797625800@templehesed.org
SUMMARY:Services
DESCRIPTION:Shabbat services begin at 7:00 PM (except on the First Friday of every month when services begin at 6:00 PM)
URL:https://templehesed.org/event/services-2/2026-12-18/
LOCATION:Temple Hesed\, 1 Knox Road\, Scranton\, PA\, 18505\, United States
CATEGORIES:calendar,Services
ORGANIZER;CN="Temple Hesed":MAILTO:templehesed@comcast.net
END:VEVENT
BEGIN:VEVENT
DTSTART;TZID=UTC:20261225T190000
DTEND;TZID=UTC:20261225T203000
DTSTAMP:20260421T183151
CREATED:20250428T182543Z
LAST-MODIFIED:20260216T234500Z
UID:10000221-1798225200-1798230600@templehesed.org
SUMMARY:Services
DESCRIPTION:Shabbat services begin at 7:00 PM (except on the First Friday of every month when services begin at 6:00 PM)
URL:https://templehesed.org/event/services-2/2026-12-25/
LOCATION:Temple Hesed\, 1 Knox Road\, Scranton\, PA\, 18505\, United States
CATEGORIES:calendar,Services
ORGANIZER;CN="Temple Hesed":MAILTO:templehesed@comcast.net
END:VEVENT
BEGIN:VEVENT
DTSTART;TZID=UTC:20270101T180000
DTEND;TZID=UTC:20270101T190000
DTSTAMP:20260421T183151
CREATED:20250428T182000Z
LAST-MODIFIED:20250428T182000Z
UID:10000103-1798826400-1798830000@templehesed.org
SUMMARY:Services
DESCRIPTION:First Friday of every month Shabbat services begin at 6:00 PM.
URL:https://templehesed.org/event/services/2027-01-01/
LOCATION:Temple Hesed\, 1 Knox Road\, Scranton\, PA\, 18505\, United States
CATEGORIES:Services
ORGANIZER;CN="Temple Hesed":MAILTO:templehesed@comcast.net
END:VEVENT
BEGIN:VEVENT
DTSTART;TZID=UTC:20270101T190000
DTEND;TZID=UTC:20270101T203000
DTSTAMP:20260421T183151
CREATED:20250428T182543Z
LAST-MODIFIED:20260216T234500Z
UID:10000222-1798830000-1798835400@templehesed.org
SUMMARY:Services
DESCRIPTION:Shabbat services begin at 7:00 PM (except on the First Friday of every month when services begin at 6:00 PM)
URL:https://templehesed.org/event/services-2/2027-01-01/
LOCATION:Temple Hesed\, 1 Knox Road\, Scranton\, PA\, 18505\, United States
CATEGORIES:calendar,Services
ORGANIZER;CN="Temple Hesed":MAILTO:templehesed@comcast.net
END:VEVENT
BEGIN:VEVENT
DTSTART;TZID=UTC:20270108T190000
DTEND;TZID=UTC:20270108T203000
DTSTAMP:20260421T183151
CREATED:20250428T182543Z
LAST-MODIFIED:20260216T234500Z
UID:10000223-1799434800-1799440200@templehesed.org
SUMMARY:Services
DESCRIPTION:Shabbat services begin at 7:00 PM (except on the First Friday of every month when services begin at 6:00 PM)
URL:https://templehesed.org/event/services-2/2027-01-08/
LOCATION:Temple Hesed\, 1 Knox Road\, Scranton\, PA\, 18505\, United States
CATEGORIES:calendar,Services
ORGANIZER;CN="Temple Hesed":MAILTO:templehesed@comcast.net
END:VEVENT
BEGIN:VEVENT
DTSTART;TZID=UTC:20270115T190000
DTEND;TZID=UTC:20270115T203000
DTSTAMP:20260421T183151
CREATED:20250428T182543Z
LAST-MODIFIED:20260216T234500Z
UID:10000224-1800039600-1800045000@templehesed.org
SUMMARY:Services
DESCRIPTION:Shabbat services begin at 7:00 PM (except on the First Friday of every month when services begin at 6:00 PM)
URL:https://templehesed.org/event/services-2/2027-01-15/
LOCATION:Temple Hesed\, 1 Knox Road\, Scranton\, PA\, 18505\, United States
CATEGORIES:calendar,Services
ORGANIZER;CN="Temple Hesed":MAILTO:templehesed@comcast.net
END:VEVENT
BEGIN:VEVENT
DTSTART;TZID=UTC:20270122T190000
DTEND;TZID=UTC:20270122T203000
DTSTAMP:20260421T183151
CREATED:20250428T182543Z
LAST-MODIFIED:20260216T234500Z
UID:10000225-1800644400-1800649800@templehesed.org
SUMMARY:Services
DESCRIPTION:Shabbat services begin at 7:00 PM (except on the First Friday of every month when services begin at 6:00 PM)
URL:https://templehesed.org/event/services-2/2027-01-22/
LOCATION:Temple Hesed\, 1 Knox Road\, Scranton\, PA\, 18505\, United States
CATEGORIES:calendar,Services
ORGANIZER;CN="Temple Hesed":MAILTO:templehesed@comcast.net
END:VEVENT
BEGIN:VEVENT
DTSTART;TZID=UTC:20270129T190000
DTEND;TZID=UTC:20270129T203000
DTSTAMP:20260421T183151
CREATED:20250428T182543Z
LAST-MODIFIED:20260216T234500Z
UID:10000226-1801249200-1801254600@templehesed.org
SUMMARY:Services
DESCRIPTION:Shabbat services begin at 7:00 PM (except on the First Friday of every month when services begin at 6:00 PM)
URL:https://templehesed.org/event/services-2/2027-01-29/
LOCATION:Temple Hesed\, 1 Knox Road\, Scranton\, PA\, 18505\, United States
CATEGORIES:calendar,Services
ORGANIZER;CN="Temple Hesed":MAILTO:templehesed@comcast.net
END:VEVENT
BEGIN:VEVENT
DTSTART;TZID=UTC:20270205T180000
DTEND;TZID=UTC:20270205T190000
DTSTAMP:20260421T183151
CREATED:20250428T182000Z
LAST-MODIFIED:20250428T182000Z
UID:10000104-1801850400-1801854000@templehesed.org
SUMMARY:Services
DESCRIPTION:First Friday of every month Shabbat services begin at 6:00 PM.
URL:https://templehesed.org/event/services/2027-02-05/
LOCATION:Temple Hesed\, 1 Knox Road\, Scranton\, PA\, 18505\, United States
CATEGORIES:Services
ORGANIZER;CN="Temple Hesed":MAILTO:templehesed@comcast.net
END:VEVENT
BEGIN:VEVENT
DTSTART;TZID=UTC:20270205T190000
DTEND;TZID=UTC:20270205T203000
DTSTAMP:20260421T183151
CREATED:20250428T182543Z
LAST-MODIFIED:20260216T234500Z
UID:10000227-1801854000-1801859400@templehesed.org
SUMMARY:Services
DESCRIPTION:Shabbat services begin at 7:00 PM (except on the First Friday of every month when services begin at 6:00 PM)
URL:https://templehesed.org/event/services-2/2027-02-05/
LOCATION:Temple Hesed\, 1 Knox Road\, Scranton\, PA\, 18505\, United States
CATEGORIES:calendar,Services
ORGANIZER;CN="Temple Hesed":MAILTO:templehesed@comcast.net
END:VEVENT
BEGIN:VEVENT
DTSTART;TZID=UTC:20270212T190000
DTEND;TZID=UTC:20270212T203000
DTSTAMP:20260421T183151
CREATED:20250428T182543Z
LAST-MODIFIED:20260216T234500Z
UID:10000228-1802458800-1802464200@templehesed.org
SUMMARY:Services
DESCRIPTION:Shabbat services begin at 7:00 PM (except on the First Friday of every month when services begin at 6:00 PM)
URL:https://templehesed.org/event/services-2/2027-02-12/
LOCATION:Temple Hesed\, 1 Knox Road\, Scranton\, PA\, 18505\, United States
CATEGORIES:calendar,Services
ORGANIZER;CN="Temple Hesed":MAILTO:templehesed@comcast.net
END:VEVENT
BEGIN:VEVENT
DTSTART;TZID=UTC:20270219T190000
DTEND;TZID=UTC:20270219T203000
DTSTAMP:20260421T183151
CREATED:20250428T182543Z
LAST-MODIFIED:20260216T234500Z
UID:10000229-1803063600-1803069000@templehesed.org
SUMMARY:Services
DESCRIPTION:Shabbat services begin at 7:00 PM (except on the First Friday of every month when services begin at 6:00 PM)
URL:https://templehesed.org/event/services-2/2027-02-19/
LOCATION:Temple Hesed\, 1 Knox Road\, Scranton\, PA\, 18505\, United States
CATEGORIES:calendar,Services
ORGANIZER;CN="Temple Hesed":MAILTO:templehesed@comcast.net
END:VEVENT
BEGIN:VEVENT
DTSTART;TZID=UTC:20270226T190000
DTEND;TZID=UTC:20270226T203000
DTSTAMP:20260421T183151
CREATED:20250428T182543Z
LAST-MODIFIED:20260216T234500Z
UID:10000230-1803668400-1803673800@templehesed.org
SUMMARY:Services
DESCRIPTION:Shabbat services begin at 7:00 PM (except on the First Friday of every month when services begin at 6:00 PM)
URL:https://templehesed.org/event/services-2/2027-02-26/
LOCATION:Temple Hesed\, 1 Knox Road\, Scranton\, PA\, 18505\, United States
CATEGORIES:calendar,Services
ORGANIZER;CN="Temple Hesed":MAILTO:templehesed@comcast.net
END:VEVENT
BEGIN:VEVENT
DTSTART;TZID=UTC:20270305T180000
DTEND;TZID=UTC:20270305T190000
DTSTAMP:20260421T183151
CREATED:20250428T182000Z
LAST-MODIFIED:20250428T182000Z
UID:10000105-1804269600-1804273200@templehesed.org
SUMMARY:Services
DESCRIPTION:First Friday of every month Shabbat services begin at 6:00 PM.
URL:https://templehesed.org/event/services/2027-03-05/
LOCATION:Temple Hesed\, 1 Knox Road\, Scranton\, PA\, 18505\, United States
CATEGORIES:Services
ORGANIZER;CN="Temple Hesed":MAILTO:templehesed@comcast.net
END:VEVENT
BEGIN:VEVENT
DTSTART;TZID=UTC:20270305T190000
DTEND;TZID=UTC:20270305T203000
DTSTAMP:20260421T183151
CREATED:20250428T182543Z
LAST-MODIFIED:20260216T234500Z
UID:10000231-1804273200-1804278600@templehesed.org
SUMMARY:Services
DESCRIPTION:Shabbat services begin at 7:00 PM (except on the First Friday of every month when services begin at 6:00 PM)
URL:https://templehesed.org/event/services-2/2027-03-05/
LOCATION:Temple Hesed\, 1 Knox Road\, Scranton\, PA\, 18505\, United States
CATEGORIES:calendar,Services
ORGANIZER;CN="Temple Hesed":MAILTO:templehesed@comcast.net
END:VEVENT
BEGIN:VEVENT
DTSTART;TZID=UTC:20270312T190000
DTEND;TZID=UTC:20270312T203000
DTSTAMP:20260421T183151
CREATED:20250428T182543Z
LAST-MODIFIED:20260216T234500Z
UID:10000232-1804878000-1804883400@templehesed.org
SUMMARY:Services
DESCRIPTION:Shabbat services begin at 7:00 PM (except on the First Friday of every month when services begin at 6:00 PM)
URL:https://templehesed.org/event/services-2/2027-03-12/
LOCATION:Temple Hesed\, 1 Knox Road\, Scranton\, PA\, 18505\, United States
CATEGORIES:calendar,Services
ORGANIZER;CN="Temple Hesed":MAILTO:templehesed@comcast.net
END:VEVENT
BEGIN:VEVENT
DTSTART;TZID=UTC:20270319T190000
DTEND;TZID=UTC:20270319T203000
DTSTAMP:20260421T183151
CREATED:20250428T182543Z
LAST-MODIFIED:20260216T234500Z
UID:10000233-1805482800-1805488200@templehesed.org
SUMMARY:Services
DESCRIPTION:Shabbat services begin at 7:00 PM (except on the First Friday of every month when services begin at 6:00 PM)
URL:https://templehesed.org/event/services-2/2027-03-19/
LOCATION:Temple Hesed\, 1 Knox Road\, Scranton\, PA\, 18505\, United States
CATEGORIES:calendar,Services
ORGANIZER;CN="Temple Hesed":MAILTO:templehesed@comcast.net
END:VEVENT
BEGIN:VEVENT
DTSTART;TZID=UTC:20270323T183000
DTEND;TZID=UTC:20270323T183000
DTSTAMP:20260421T183151
CREATED:20241108T182939Z
LAST-MODIFIED:20241108T182939Z
UID:10000025-1805826600-1805826600@templehesed.org
SUMMARY:Purim
DESCRIPTION:
URL:https://templehesed.org/event/purim-3/
CATEGORIES:Holidays
END:VEVENT
END:VCALENDAR