BEGIN:VCALENDAR
VERSION:2.0
PRODID:-//Temple Hesed - ECPv6.15.20//NONSGML v1.0//EN
CALSCALE:GREGORIAN
METHOD:PUBLISH
X-WR-CALNAME:Temple Hesed
X-ORIGINAL-URL:https://templehesed.org
X-WR-CALDESC:Events for Temple Hesed
REFRESH-INTERVAL;VALUE=DURATION:PT1H
X-Robots-Tag:noindex
X-PUBLISHED-TTL:PT1H
BEGIN:VTIMEZONE
TZID:UTC
BEGIN:STANDARD
TZOFFSETFROM:+0000
TZOFFSETTO:+0000
TZNAME:UTC
DTSTART:20240101T000000
END:STANDARD
END:VTIMEZONE
BEGIN:VEVENT
DTSTART;TZID=UTC:20250905T180000
DTEND;TZID=UTC:20250905T190000
DTSTAMP:20260422T005006
CREATED:20250428T182000Z
LAST-MODIFIED:20250428T182000Z
UID:10000087-1757095200-1757098800@templehesed.org
SUMMARY:Services
DESCRIPTION:First Friday of every month Shabbat services begin at 6:00 PM.
URL:https://templehesed.org/event/services/2025-09-05/
LOCATION:Temple Hesed\, 1 Knox Road\, Scranton\, PA\, 18505\, United States
CATEGORIES:Services
ORGANIZER;CN="Temple Hesed":MAILTO:templehesed@comcast.net
END:VEVENT
BEGIN:VEVENT
DTSTART;TZID=UTC:20250912T190000
DTEND;TZID=UTC:20250912T203000
DTSTAMP:20260422T005006
CREATED:20250428T182543Z
LAST-MODIFIED:20260216T234500Z
UID:10000157-1757703600-1757709000@templehesed.org
SUMMARY:Services
DESCRIPTION:Shabbat services begin at 7:00 PM (except on the First Friday of every month when services begin at 6:00 PM)
URL:https://templehesed.org/event/services-2/2025-09-12/
LOCATION:Temple Hesed\, 1 Knox Road\, Scranton\, PA\, 18505\, United States
CATEGORIES:calendar,Services
ORGANIZER;CN="Temple Hesed":MAILTO:templehesed@comcast.net
END:VEVENT
BEGIN:VEVENT
DTSTART;TZID=UTC:20250919T190000
DTEND;TZID=UTC:20250919T203000
DTSTAMP:20260422T005006
CREATED:20250428T182543Z
LAST-MODIFIED:20260216T234500Z
UID:10000158-1758308400-1758313800@templehesed.org
SUMMARY:Services
DESCRIPTION:Shabbat services begin at 7:00 PM (except on the First Friday of every month when services begin at 6:00 PM)
URL:https://templehesed.org/event/services-2/2025-09-19/
LOCATION:Temple Hesed\, 1 Knox Road\, Scranton\, PA\, 18505\, United States
CATEGORIES:calendar,Services
ORGANIZER;CN="Temple Hesed":MAILTO:templehesed@comcast.net
END:VEVENT
BEGIN:VEVENT
DTSTART;TZID=UTC:20250922T190000
DTEND;TZID=UTC:20250924T190000
DTSTAMP:20260422T005006
CREATED:20241108T173721Z
LAST-MODIFIED:20250221T212407Z
UID:10000002-1758567600-1758740400@templehesed.org
SUMMARY:Rosh Hashanah (New Year)
DESCRIPTION:
URL:https://templehesed.org/event/rosh-hashanah-new-year/
CATEGORIES:Holidays
END:VEVENT
BEGIN:VEVENT
DTSTART;TZID=UTC:20250925T080000
DTEND;TZID=UTC:20250925T170000
DTSTAMP:20260422T005006
CREATED:20250925T201119Z
LAST-MODIFIED:20250925T201119Z
UID:10000408-1758787200-1758819600@templehesed.org
SUMMARY:Break Fast
DESCRIPTION:Stay after the Avodah\, Yizkor\, Neilah\, and Havdalah Services to Break Fast! \nImmediately following the conclusion of the 4:30 Afternoon Worship Services.
URL:https://templehesed.org/event/break-fast/
LOCATION:Temple Hesed\, 1 Knox Road\, Scranton\, PA\, 18505\, United States
CATEGORIES:calendar,Holidays
ORGANIZER;CN="Temple Hesed":MAILTO:templehesed@comcast.net
END:VEVENT
BEGIN:VEVENT
DTSTART;TZID=UTC:20250926T190000
DTEND;TZID=UTC:20250926T203000
DTSTAMP:20260422T005006
CREATED:20250428T182543Z
LAST-MODIFIED:20260216T234500Z
UID:10000159-1758913200-1758918600@templehesed.org
SUMMARY:Services
DESCRIPTION:Shabbat services begin at 7:00 PM (except on the First Friday of every month when services begin at 6:00 PM)
URL:https://templehesed.org/event/services-2/2025-09-26/
LOCATION:Temple Hesed\, 1 Knox Road\, Scranton\, PA\, 18505\, United States
CATEGORIES:calendar,Services
ORGANIZER;CN="Temple Hesed":MAILTO:templehesed@comcast.net
END:VEVENT
BEGIN:VEVENT
DTSTART;TZID=UTC:20250928T110000
DTEND;TZID=UTC:20250928T120000
DTSTAMP:20260422T005006
CREATED:20250925T200311Z
LAST-MODIFIED:20250925T200311Z
UID:10000403-1759057200-1759060800@templehesed.org
SUMMARY:Cemetery Memorial Service
DESCRIPTION:
URL:https://templehesed.org/event/cemetery-memorial-service/
LOCATION:Temple Hesed Dunmore Cemetery\, 400 Church Street\, Dunmore\, PA\, 18512\, United States
CATEGORIES:calendar,Holidays,Services,Yahrzeits
ORGANIZER;CN="Temple Hesed":MAILTO:templehesed@comcast.net
END:VEVENT
BEGIN:VEVENT
DTSTART;TZID=UTC:20250928T153000
DTEND;TZID=UTC:20250928T163000
DTSTAMP:20260422T005006
CREATED:20250924T230321Z
LAST-MODIFIED:20250926T225926Z
UID:10000402-1759073400-1759077000@templehesed.org
SUMMARY:A Glezele Tey
DESCRIPTION:A Glezele Tey (Yiddish for “a little glass of tea”) offers an intimate\, soul-stirring performance of klezmer\, Yiddish folk song\, and tkhines—traditional Ashkenazi prayers reimagined for today. Rooted in ritual\, community\, and cultural memory\, this acclaimed trio invites audiences into a shared space of reflection\, healing\, and joy\, using music to honor lineage\, move through grief\, and build a frayer velt—a freer world. \nFree workshop at 1:00 PM
URL:https://templehesed.org/event/a-glezele-tey/
LOCATION:Electric Trolley Museum\, 300 Cliff Street\, Scranton\, Pennsylvania\, 18503
ATTACH;FMTTYPE=image/jpeg:https://templehesed.org/wp-content/uploads/2025/09/06-25-2025-051410-9985.jpg
END:VEVENT
BEGIN:VEVENT
DTSTART;TZID=UTC:20251001T183000
DTEND;TZID=UTC:20251002T183000
DTSTAMP:20260422T005006
CREATED:20241108T173909Z
LAST-MODIFIED:20250221T212512Z
UID:10000003-1759343400-1759429800@templehesed.org
SUMMARY:Yom Kippur (Day Of Atonement)
DESCRIPTION:
URL:https://templehesed.org/event/yom-kippur-day-of-atonement/
CATEGORIES:Holidays
END:VEVENT
BEGIN:VEVENT
DTSTART;TZID=UTC:20251001T193000
DTEND;TZID=UTC:20251001T210000
DTSTAMP:20260422T005006
CREATED:20250925T200516Z
LAST-MODIFIED:20250925T200516Z
UID:10000404-1759347000-1759352400@templehesed.org
SUMMARY:Yom Kippur Kol Nidre
DESCRIPTION:
URL:https://templehesed.org/event/yom-kippur-kol-nidre/
LOCATION:Temple Hesed\, 1 Knox Road\, Scranton\, PA\, 18505\, United States
CATEGORIES:calendar,Holidays,Services
ORGANIZER;CN="Temple Hesed":MAILTO:templehesed@comcast.net
END:VEVENT
BEGIN:VEVENT
DTSTART;TZID=UTC:20251002T100000
DTEND;TZID=UTC:20251002T123000
DTSTAMP:20260422T005006
CREATED:20250925T200632Z
LAST-MODIFIED:20250925T200646Z
UID:10000405-1759399200-1759408200@templehesed.org
SUMMARY:Yom Kippur Morning Worship
DESCRIPTION:
URL:https://templehesed.org/event/yom-kippur-morning-worship/
LOCATION:Temple Hesed\, 1 Knox Road\, Scranton\, PA\, 18505\, United States
CATEGORIES:calendar,Holidays,Services
ORGANIZER;CN="Temple Hesed":MAILTO:templehesed@comcast.net
END:VEVENT
BEGIN:VEVENT
DTSTART;TZID=UTC:20251002T150000
DTEND;TZID=UTC:20251002T160000
DTSTAMP:20260422T005006
CREATED:20250925T200813Z
LAST-MODIFIED:20250925T200813Z
UID:10000406-1759417200-1759420800@templehesed.org
SUMMARY:Yom Kippur Study Session
DESCRIPTION:Topic: AI: Heart of the Machine
URL:https://templehesed.org/event/yom-kippur-study-session/
LOCATION:Temple Hesed\, 1 Knox Road\, Scranton\, PA\, 18505\, United States
CATEGORIES:calendar,Holidays
ORGANIZER;CN="Temple Hesed":MAILTO:templehesed@comcast.net
END:VEVENT
BEGIN:VEVENT
DTSTART;TZID=UTC:20251002T163000
DTEND;TZID=UTC:20251002T183000
DTSTAMP:20260422T005006
CREATED:20250925T200934Z
LAST-MODIFIED:20250925T200934Z
UID:10000407-1759422600-1759429800@templehesed.org
SUMMARY:Yom Kippur Afternoon Worship
DESCRIPTION:Avodah\, Yizkor\, Neilah\, and Havdalah Services
URL:https://templehesed.org/event/yom-kippur-afternoon-worship/
LOCATION:Temple Hesed\, 1 Knox Road\, Scranton\, PA\, 18505\, United States
CATEGORIES:calendar,Holidays,Services
ORGANIZER;CN="Temple Hesed":MAILTO:templehesed@comcast.net
END:VEVENT
BEGIN:VEVENT
DTSTART;TZID=UTC:20251003T180000
DTEND;TZID=UTC:20251003T190000
DTSTAMP:20260422T005006
CREATED:20250428T182000Z
LAST-MODIFIED:20250428T182000Z
UID:10000088-1759514400-1759518000@templehesed.org
SUMMARY:Services
DESCRIPTION:First Friday of every month Shabbat services begin at 6:00 PM.
URL:https://templehesed.org/event/services/2025-10-03/
LOCATION:Temple Hesed\, 1 Knox Road\, Scranton\, PA\, 18505\, United States
CATEGORIES:Services
ORGANIZER;CN="Temple Hesed":MAILTO:templehesed@comcast.net
END:VEVENT
BEGIN:VEVENT
DTSTART;TZID=UTC:20251006T183000
DTEND;TZID=UTC:20251013T183000
DTSTAMP:20260422T005006
CREATED:20241108T173959Z
LAST-MODIFIED:20250221T212603Z
UID:10000004-1759775400-1760380200@templehesed.org
SUMMARY:Sukkot
DESCRIPTION:
URL:https://templehesed.org/event/sukkot/
CATEGORIES:Holidays
END:VEVENT
BEGIN:VEVENT
DTSTART;TZID=UTC:20251010T180000
DTEND;TZID=UTC:20251010T190000
DTSTAMP:20260422T005006
CREATED:20250925T201556Z
LAST-MODIFIED:20250925T201657Z
UID:10000409-1760119200-1760122800@templehesed.org
SUMMARY:Sukkot Potluck & Services
DESCRIPTION:Chag Sameach! Sukkot is here\, and there’s no better way to celebrate than gathering together in our sukkah. \nFriday\, October 10\, 2025Potluck Dinner | 6:00 PM – [SIGN UP HERE]Shabbat Services | 7:00 PM \nBring a favorite dish – homemade or store-bought – and join us for a relaxed\, festive evening under the stars. Share a meal\, shake the lulav\, and enjoy the joy of the season with friends old and new. \nEveryone is welcome — Please sign up by Wednesday\, October 8\, so we can set enough places at the table! \nSEE YOU IN THE SUKKAH!
URL:https://templehesed.org/event/sukkot-potluck-services/
LOCATION:Temple Hesed\, 1 Knox Road\, Scranton\, PA\, 18505\, United States
CATEGORIES:calendar,Events,Holidays,Services
ORGANIZER;CN="Temple Hesed":MAILTO:templehesed@comcast.net
END:VEVENT
BEGIN:VEVENT
DTSTART;TZID=UTC:20251010T190000
DTEND;TZID=UTC:20251010T203000
DTSTAMP:20260422T005006
CREATED:20250428T182543Z
LAST-MODIFIED:20260216T234500Z
UID:10000160-1760122800-1760128200@templehesed.org
SUMMARY:Services
DESCRIPTION:Shabbat services begin at 7:00 PM (except on the First Friday of every month when services begin at 6:00 PM)
URL:https://templehesed.org/event/services-2/2025-10-10/
LOCATION:Temple Hesed\, 1 Knox Road\, Scranton\, PA\, 18505\, United States
CATEGORIES:calendar,Services
ORGANIZER;CN="Temple Hesed":MAILTO:templehesed@comcast.net
END:VEVENT
BEGIN:VEVENT
DTSTART;TZID=UTC:20251014T183000
DTEND;TZID=UTC:20251014T183000
DTSTAMP:20260422T005006
CREATED:20241108T174042Z
LAST-MODIFIED:20241108T174042Z
UID:10000005-1760466600-1760466600@templehesed.org
SUMMARY:Shimini Atzeret
DESCRIPTION:
URL:https://templehesed.org/event/shimini-atzeret/
CATEGORIES:Holidays
END:VEVENT
BEGIN:VEVENT
DTSTART;TZID=UTC:20251014T183000
DTEND;TZID=UTC:20251015T183000
DTSTAMP:20260422T005006
CREATED:20241108T174103Z
LAST-MODIFIED:20250221T212658Z
UID:10000006-1760466600-1760553000@templehesed.org
SUMMARY:Simchat Torah
DESCRIPTION:
URL:https://templehesed.org/event/simchat-torah/
CATEGORIES:Holidays
END:VEVENT
BEGIN:VEVENT
DTSTART;TZID=UTC:20251017T190000
DTEND;TZID=UTC:20251017T203000
DTSTAMP:20260422T005006
CREATED:20250428T182543Z
LAST-MODIFIED:20260216T234500Z
UID:10000161-1760727600-1760733000@templehesed.org
SUMMARY:Services
DESCRIPTION:Shabbat services begin at 7:00 PM (except on the First Friday of every month when services begin at 6:00 PM)
URL:https://templehesed.org/event/services-2/2025-10-17/
LOCATION:Temple Hesed\, 1 Knox Road\, Scranton\, PA\, 18505\, United States
CATEGORIES:calendar,Services
ORGANIZER;CN="Temple Hesed":MAILTO:templehesed@comcast.net
END:VEVENT
BEGIN:VEVENT
DTSTART;TZID=UTC:20251024T190000
DTEND;TZID=UTC:20251024T203000
DTSTAMP:20260422T005006
CREATED:20250428T182543Z
LAST-MODIFIED:20260216T234500Z
UID:10000162-1761332400-1761337800@templehesed.org
SUMMARY:Services
DESCRIPTION:Shabbat services begin at 7:00 PM (except on the First Friday of every month when services begin at 6:00 PM)
URL:https://templehesed.org/event/services-2/2025-10-24/
LOCATION:Temple Hesed\, 1 Knox Road\, Scranton\, PA\, 18505\, United States
CATEGORIES:calendar,Services
ORGANIZER;CN="Temple Hesed":MAILTO:templehesed@comcast.net
END:VEVENT
BEGIN:VEVENT
DTSTART;TZID=UTC:20251031T190000
DTEND;TZID=UTC:20251031T203000
DTSTAMP:20260422T005006
CREATED:20250428T182543Z
LAST-MODIFIED:20260216T234500Z
UID:10000163-1761937200-1761942600@templehesed.org
SUMMARY:Services
DESCRIPTION:Shabbat services begin at 7:00 PM (except on the First Friday of every month when services begin at 6:00 PM)
URL:https://templehesed.org/event/services-2/2025-10-31/
LOCATION:Temple Hesed\, 1 Knox Road\, Scranton\, PA\, 18505\, United States
CATEGORIES:calendar,Services
ORGANIZER;CN="Temple Hesed":MAILTO:templehesed@comcast.net
END:VEVENT
BEGIN:VEVENT
DTSTART;TZID=UTC:20251106T190000
DTEND;TZID=UTC:20251106T200000
DTSTAMP:20260422T005006
CREATED:20251028T185854Z
LAST-MODIFIED:20251028T210232Z
UID:10000410-1762455600-1762459200@templehesed.org
SUMMARY:Ethical Wills: Writing Your Legacy | Adult Ed
DESCRIPTION:Taught by Rabbi Daniel Swartz \nThursdays\, November 6\, 13\, 20 & December 4 at 7:00 PM (In person & on Zoom) \nDiscover the powerful and deeply personal Jewish tradition of ethical wills—also known as legacy letters. From Biblical times to the present day\, Jews have passed down not just possessions\, but life lessons\, values\, and hard-earned wisdom through these heartfelt writings. \nIn this four-session course\, we’ll explore extraordinary examples spanning millennia\, including the famous ethical will of Sholem Aleichem\, which appeared on the front page of The New York Times upon his death. Participants will also receive step-by-step guidance and expert support to begin crafting or recording their own ethical wills—an opportunity to reflect on your values and the legacy you wish to share\, at any stage of life. \nThis class is free and open to the public\, but registration is required. \nRegister online\, email\, or call the temple office.
URL:https://templehesed.org/event/ethical-wills-writing-your-legacy-adult-ed/
LOCATION:Temple Hesed\, 1 Knox Road\, Scranton\, PA\, 18505\, United States
CATEGORIES:calendar,Events
ATTACH;FMTTYPE=image/png:https://templehesed.org/wp-content/uploads/2025/10/ny-times.png
ORGANIZER;CN="Temple Hesed":MAILTO:templehesed@comcast.net
END:VEVENT
BEGIN:VEVENT
DTSTART;TZID=UTC:20251107T180000
DTEND;TZID=UTC:20251107T190000
DTSTAMP:20260422T005006
CREATED:20250428T182000Z
LAST-MODIFIED:20250428T182000Z
UID:10000089-1762538400-1762542000@templehesed.org
SUMMARY:Services
DESCRIPTION:First Friday of every month Shabbat services begin at 6:00 PM.
URL:https://templehesed.org/event/services/2025-11-07/
LOCATION:Temple Hesed\, 1 Knox Road\, Scranton\, PA\, 18505\, United States
CATEGORIES:Services
ORGANIZER;CN="Temple Hesed":MAILTO:templehesed@comcast.net
END:VEVENT
BEGIN:VEVENT
DTSTART;TZID=UTC:20251113T190000
DTEND;TZID=UTC:20251113T200000
DTSTAMP:20260422T005006
CREATED:20251028T190025Z
LAST-MODIFIED:20251028T190025Z
UID:10000411-1763060400-1763064000@templehesed.org
SUMMARY:Ethical Wills: Writing Your Legacy | Adult Ed
DESCRIPTION:Taught by Rabbi Daniel Swartz \nAdult Ed Series: Thursdays\, November 6\, 13\, 20 & December 4 at 7:00 PM (In person & on Zoom) \nDiscover the powerful and deeply personal Jewish tradition of ethical wills—also known as legacy letters. From Biblical times to the present day\, Jews have passed down not just possessions\, but life lessons\, values\, and hard-earned wisdom through these heartfelt writings. \nIn this four-session course\, we’ll explore extraordinary examples spanning millennia\, including the famous ethical will of Sholem Aleichem\, which appeared on the front page of The New York Times upon his death. Participants will also receive step-by-step guidance and expert support to begin crafting or recording their own ethical wills—an opportunity to reflect on your values and the legacy you wish to share\, at any stage of life. \nThis class is free and open to the public\, but registration is required. \nRegister online\, email\, or call the temple office.
URL:https://templehesed.org/event/ethical-wills-writing-your-legacy-adult-ed-2/
LOCATION:Temple Hesed\, 1 Knox Road\, Scranton\, PA\, 18505\, United States
CATEGORIES:calendar,Events
ATTACH;FMTTYPE=image/png:https://templehesed.org/wp-content/uploads/2025/10/ny-times.png
ORGANIZER;CN="Temple Hesed":MAILTO:templehesed@comcast.net
END:VEVENT
BEGIN:VEVENT
DTSTART;TZID=UTC:20251114T190000
DTEND;TZID=UTC:20251114T203000
DTSTAMP:20260422T005006
CREATED:20250428T182543Z
LAST-MODIFIED:20260216T234500Z
UID:10000164-1763146800-1763152200@templehesed.org
SUMMARY:Services
DESCRIPTION:Shabbat services begin at 7:00 PM (except on the First Friday of every month when services begin at 6:00 PM)
URL:https://templehesed.org/event/services-2/2025-11-14/
LOCATION:Temple Hesed\, 1 Knox Road\, Scranton\, PA\, 18505\, United States
CATEGORIES:calendar,Services
ORGANIZER;CN="Temple Hesed":MAILTO:templehesed@comcast.net
END:VEVENT
BEGIN:VEVENT
DTSTART;TZID=UTC:20251120T190000
DTEND;TZID=UTC:20251120T200000
DTSTAMP:20260422T005006
CREATED:20251028T190109Z
LAST-MODIFIED:20251028T190109Z
UID:10000412-1763665200-1763668800@templehesed.org
SUMMARY:Ethical Wills: Writing Your Legacy | Adult Ed
DESCRIPTION:Taught by Rabbi Daniel Swartz \nAdult Ed Series: Thursdays\, November 6\, 13\, 20 & December 4 at 7:00 PM (In person & on Zoom) \nDiscover the powerful and deeply personal Jewish tradition of ethical wills—also known as legacy letters. From Biblical times to the present day\, Jews have passed down not just possessions\, but life lessons\, values\, and hard-earned wisdom through these heartfelt writings. \nIn this four-session course\, we’ll explore extraordinary examples spanning millennia\, including the famous ethical will of Sholem Aleichem\, which appeared on the front page of The New York Times upon his death. Participants will also receive step-by-step guidance and expert support to begin crafting or recording their own ethical wills—an opportunity to reflect on your values and the legacy you wish to share\, at any stage of life. \nThis class is free and open to the public\, but registration is required. \nRegister online\, email\, or call the temple office.
URL:https://templehesed.org/event/ethical-wills-writing-your-legacy-adult-ed-3/
LOCATION:Temple Hesed\, 1 Knox Road\, Scranton\, PA\, 18505\, United States
CATEGORIES:calendar,Events
ATTACH;FMTTYPE=image/png:https://templehesed.org/wp-content/uploads/2025/10/ny-times.png
ORGANIZER;CN="Temple Hesed":MAILTO:templehesed@comcast.net
END:VEVENT
BEGIN:VEVENT
DTSTART;TZID=UTC:20251121T080000
DTEND;TZID=UTC:20251121T170000
DTSTAMP:20260422T005006
CREATED:20251109T221049Z
LAST-MODIFIED:20251109T221049Z
UID:10000414-1763712000-1763744400@templehesed.org
SUMMARY:Annual Multifaith Thanksgiving PotLuck Celebration
DESCRIPTION:Temple Hesed is honored once again to host the annual Multifaith Thanksgiving Celebration\, in partnership with the Friends of the Poor and the Scranton Area Ministerium. \nJoin us Friday\, November 21\, for a community potluck dinner at 6:00 PM\, followed by the Thanksgiving service at 7:00 PM. \nThis year\, we honor our nation’s immigrant roots and the blessings of liberty\, inspired by Emma Lazarus’s “The New Colossus.” \nRSVP Now
URL:https://templehesed.org/event/annual-multifaith-thanksgiving-potluck-celebration/
LOCATION:Temple Hesed\, 1 Knox Road\, Scranton\, PA\, 18505\, United States
CATEGORIES:calendar,Events
ATTACH;FMTTYPE=image/png:https://templehesed.org/wp-content/uploads/2025/11/Blue-And-White-Modern-Calling-For-Vendors-Instagram-Post-2.png
ORGANIZER;CN="Temple Hesed":MAILTO:templehesed@comcast.net
END:VEVENT
BEGIN:VEVENT
DTSTART;TZID=UTC:20251121T190000
DTEND;TZID=UTC:20251121T203000
DTSTAMP:20260422T005006
CREATED:20250428T182543Z
LAST-MODIFIED:20260216T234500Z
UID:10000165-1763751600-1763757000@templehesed.org
SUMMARY:Services
DESCRIPTION:Shabbat services begin at 7:00 PM (except on the First Friday of every month when services begin at 6:00 PM)
URL:https://templehesed.org/event/services-2/2025-11-21/
LOCATION:Temple Hesed\, 1 Knox Road\, Scranton\, PA\, 18505\, United States
CATEGORIES:calendar,Services
ORGANIZER;CN="Temple Hesed":MAILTO:templehesed@comcast.net
END:VEVENT
BEGIN:VEVENT
DTSTART;TZID=UTC:20251128T190000
DTEND;TZID=UTC:20251128T203000
DTSTAMP:20260422T005006
CREATED:20250428T182543Z
LAST-MODIFIED:20260216T234500Z
UID:10000166-1764356400-1764361800@templehesed.org
SUMMARY:Services
DESCRIPTION:Shabbat services begin at 7:00 PM (except on the First Friday of every month when services begin at 6:00 PM)
URL:https://templehesed.org/event/services-2/2025-11-28/
LOCATION:Temple Hesed\, 1 Knox Road\, Scranton\, PA\, 18505\, United States
CATEGORIES:calendar,Services
ORGANIZER;CN="Temple Hesed":MAILTO:templehesed@comcast.net
END:VEVENT
END:VCALENDAR