BEGIN:VCALENDAR
VERSION:2.0
PRODID:-//Temple Hesed - ECPv6.15.20//NONSGML v1.0//EN
CALSCALE:GREGORIAN
METHOD:PUBLISH
X-ORIGINAL-URL:https://templehesed.org
X-WR-CALDESC:Events for Temple Hesed
REFRESH-INTERVAL;VALUE=DURATION:PT1H
X-Robots-Tag:noindex
X-PUBLISHED-TTL:PT1H
BEGIN:VTIMEZONE
TZID:UTC
BEGIN:STANDARD
TZOFFSETFROM:+0000
TZOFFSETTO:+0000
TZNAME:UTC
DTSTART:20260101T000000
END:STANDARD
END:VTIMEZONE
BEGIN:VEVENT
DTSTART;TZID=UTC:20271119T190000
DTEND;TZID=UTC:20271119T203000
DTSTAMP:20260422T225853
CREATED:20250428T182543Z
LAST-MODIFIED:20260216T234500Z
UID:10000268-1826650800-1826656200@templehesed.org
SUMMARY:Services
DESCRIPTION:Shabbat services begin at 7:00 PM (except on the First Friday of every month when services begin at 6:00 PM)
URL:https://templehesed.org/event/services-2/2027-11-19/
LOCATION:Temple Hesed\, 1 Knox Road\, Scranton\, PA\, 18505\, United States
CATEGORIES:calendar,Services
ORGANIZER;CN="Temple Hesed":MAILTO:templehesed@comcast.net
END:VEVENT
BEGIN:VEVENT
DTSTART;TZID=UTC:20271126T190000
DTEND;TZID=UTC:20271126T203000
DTSTAMP:20260422T225853
CREATED:20250428T182543Z
LAST-MODIFIED:20260216T234500Z
UID:10000269-1827255600-1827261000@templehesed.org
SUMMARY:Services
DESCRIPTION:Shabbat services begin at 7:00 PM (except on the First Friday of every month when services begin at 6:00 PM)
URL:https://templehesed.org/event/services-2/2027-11-26/
LOCATION:Temple Hesed\, 1 Knox Road\, Scranton\, PA\, 18505\, United States
CATEGORIES:calendar,Services
ORGANIZER;CN="Temple Hesed":MAILTO:templehesed@comcast.net
END:VEVENT
BEGIN:VEVENT
DTSTART;TZID=UTC:20271203T180000
DTEND;TZID=UTC:20271203T190000
DTSTAMP:20260422T225853
CREATED:20250428T182000Z
LAST-MODIFIED:20250428T182000Z
UID:10000114-1827856800-1827860400@templehesed.org
SUMMARY:Services
DESCRIPTION:First Friday of every month Shabbat services begin at 6:00 PM.
URL:https://templehesed.org/event/services/2027-12-03/
LOCATION:Temple Hesed\, 1 Knox Road\, Scranton\, PA\, 18505\, United States
CATEGORIES:Services
ORGANIZER;CN="Temple Hesed":MAILTO:templehesed@comcast.net
END:VEVENT
BEGIN:VEVENT
DTSTART;TZID=UTC:20271203T190000
DTEND;TZID=UTC:20271203T203000
DTSTAMP:20260422T225853
CREATED:20250428T182543Z
LAST-MODIFIED:20260216T234500Z
UID:10000270-1827860400-1827865800@templehesed.org
SUMMARY:Services
DESCRIPTION:Shabbat services begin at 7:00 PM (except on the First Friday of every month when services begin at 6:00 PM)
URL:https://templehesed.org/event/services-2/2027-12-03/
LOCATION:Temple Hesed\, 1 Knox Road\, Scranton\, PA\, 18505\, United States
CATEGORIES:calendar,Services
ORGANIZER;CN="Temple Hesed":MAILTO:templehesed@comcast.net
END:VEVENT
BEGIN:VEVENT
DTSTART;TZID=UTC:20271210T190000
DTEND;TZID=UTC:20271210T203000
DTSTAMP:20260422T225853
CREATED:20250428T182543Z
LAST-MODIFIED:20260216T234500Z
UID:10000271-1828465200-1828470600@templehesed.org
SUMMARY:Services
DESCRIPTION:Shabbat services begin at 7:00 PM (except on the First Friday of every month when services begin at 6:00 PM)
URL:https://templehesed.org/event/services-2/2027-12-10/
LOCATION:Temple Hesed\, 1 Knox Road\, Scranton\, PA\, 18505\, United States
CATEGORIES:calendar,Services
ORGANIZER;CN="Temple Hesed":MAILTO:templehesed@comcast.net
END:VEVENT
BEGIN:VEVENT
DTSTART;TZID=UTC:20271217T190000
DTEND;TZID=UTC:20271217T203000
DTSTAMP:20260422T225853
CREATED:20250428T182543Z
LAST-MODIFIED:20260216T234500Z
UID:10000272-1829070000-1829075400@templehesed.org
SUMMARY:Services
DESCRIPTION:Shabbat services begin at 7:00 PM (except on the First Friday of every month when services begin at 6:00 PM)
URL:https://templehesed.org/event/services-2/2027-12-17/
LOCATION:Temple Hesed\, 1 Knox Road\, Scranton\, PA\, 18505\, United States
CATEGORIES:calendar,Services
ORGANIZER;CN="Temple Hesed":MAILTO:templehesed@comcast.net
END:VEVENT
BEGIN:VEVENT
DTSTART;TZID=UTC:20271224T190000
DTEND;TZID=UTC:20271224T203000
DTSTAMP:20260422T225853
CREATED:20250428T182543Z
LAST-MODIFIED:20260216T234500Z
UID:10000273-1829674800-1829680200@templehesed.org
SUMMARY:Services
DESCRIPTION:Shabbat services begin at 7:00 PM (except on the First Friday of every month when services begin at 6:00 PM)
URL:https://templehesed.org/event/services-2/2027-12-24/
LOCATION:Temple Hesed\, 1 Knox Road\, Scranton\, PA\, 18505\, United States
CATEGORIES:calendar,Services
ORGANIZER;CN="Temple Hesed":MAILTO:templehesed@comcast.net
END:VEVENT
BEGIN:VEVENT
DTSTART;TZID=UTC:20271225T183000
DTEND;TZID=UTC:20280101T193000
DTSTAMP:20260422T225853
CREATED:20241108T183426Z
LAST-MODIFIED:20241108T183426Z
UID:10000034-1829759400-1830367800@templehesed.org
SUMMARY:Hanukkah (Festival Of Lights)
DESCRIPTION:
URL:https://templehesed.org/event/hanukkah-festival-of-lights-4/
LOCATION:PA
CATEGORIES:Holidays
END:VEVENT
BEGIN:VEVENT
DTSTART;TZID=UTC:20271231T190000
DTEND;TZID=UTC:20271231T203000
DTSTAMP:20260422T225853
CREATED:20250428T182543Z
LAST-MODIFIED:20260216T234500Z
UID:10000274-1830279600-1830285000@templehesed.org
SUMMARY:Services
DESCRIPTION:Shabbat services begin at 7:00 PM (except on the First Friday of every month when services begin at 6:00 PM)
URL:https://templehesed.org/event/services-2/2027-12-31/
LOCATION:Temple Hesed\, 1 Knox Road\, Scranton\, PA\, 18505\, United States
CATEGORIES:calendar,Services
ORGANIZER;CN="Temple Hesed":MAILTO:templehesed@comcast.net
END:VEVENT
BEGIN:VEVENT
DTSTART;TZID=UTC:20280107T180000
DTEND;TZID=UTC:20280107T190000
DTSTAMP:20260422T225853
CREATED:20250428T182000Z
LAST-MODIFIED:20250428T182000Z
UID:10000115-1830880800-1830884400@templehesed.org
SUMMARY:Services
DESCRIPTION:First Friday of every month Shabbat services begin at 6:00 PM.
URL:https://templehesed.org/event/services/2028-01-07/
LOCATION:Temple Hesed\, 1 Knox Road\, Scranton\, PA\, 18505\, United States
CATEGORIES:Services
ORGANIZER;CN="Temple Hesed":MAILTO:templehesed@comcast.net
END:VEVENT
BEGIN:VEVENT
DTSTART;TZID=UTC:20280107T190000
DTEND;TZID=UTC:20280107T203000
DTSTAMP:20260422T225853
CREATED:20250428T182543Z
LAST-MODIFIED:20260216T234500Z
UID:10000275-1830884400-1830889800@templehesed.org
SUMMARY:Services
DESCRIPTION:Shabbat services begin at 7:00 PM (except on the First Friday of every month when services begin at 6:00 PM)
URL:https://templehesed.org/event/services-2/2028-01-07/
LOCATION:Temple Hesed\, 1 Knox Road\, Scranton\, PA\, 18505\, United States
CATEGORIES:calendar,Services
ORGANIZER;CN="Temple Hesed":MAILTO:templehesed@comcast.net
END:VEVENT
BEGIN:VEVENT
DTSTART;TZID=UTC:20280114T190000
DTEND;TZID=UTC:20280114T203000
DTSTAMP:20260422T225853
CREATED:20250428T182543Z
LAST-MODIFIED:20260216T234500Z
UID:10000276-1831489200-1831494600@templehesed.org
SUMMARY:Services
DESCRIPTION:Shabbat services begin at 7:00 PM (except on the First Friday of every month when services begin at 6:00 PM)
URL:https://templehesed.org/event/services-2/2028-01-14/
LOCATION:Temple Hesed\, 1 Knox Road\, Scranton\, PA\, 18505\, United States
CATEGORIES:calendar,Services
ORGANIZER;CN="Temple Hesed":MAILTO:templehesed@comcast.net
END:VEVENT
BEGIN:VEVENT
DTSTART;TZID=UTC:20280121T190000
DTEND;TZID=UTC:20280121T203000
DTSTAMP:20260422T225853
CREATED:20250428T182543Z
LAST-MODIFIED:20260216T234500Z
UID:10000277-1832094000-1832099400@templehesed.org
SUMMARY:Services
DESCRIPTION:Shabbat services begin at 7:00 PM (except on the First Friday of every month when services begin at 6:00 PM)
URL:https://templehesed.org/event/services-2/2028-01-21/
LOCATION:Temple Hesed\, 1 Knox Road\, Scranton\, PA\, 18505\, United States
CATEGORIES:calendar,Services
ORGANIZER;CN="Temple Hesed":MAILTO:templehesed@comcast.net
END:VEVENT
BEGIN:VEVENT
DTSTART;TZID=UTC:20280128T190000
DTEND;TZID=UTC:20280128T203000
DTSTAMP:20260422T225853
CREATED:20250428T182543Z
LAST-MODIFIED:20260216T234500Z
UID:10000278-1832698800-1832704200@templehesed.org
SUMMARY:Services
DESCRIPTION:Shabbat services begin at 7:00 PM (except on the First Friday of every month when services begin at 6:00 PM)
URL:https://templehesed.org/event/services-2/2028-01-28/
LOCATION:Temple Hesed\, 1 Knox Road\, Scranton\, PA\, 18505\, United States
CATEGORIES:calendar,Services
ORGANIZER;CN="Temple Hesed":MAILTO:templehesed@comcast.net
END:VEVENT
BEGIN:VEVENT
DTSTART;TZID=UTC:20280204T180000
DTEND;TZID=UTC:20280204T190000
DTSTAMP:20260422T225853
CREATED:20250428T182000Z
LAST-MODIFIED:20250428T182000Z
UID:10000116-1833300000-1833303600@templehesed.org
SUMMARY:Services
DESCRIPTION:First Friday of every month Shabbat services begin at 6:00 PM.
URL:https://templehesed.org/event/services/2028-02-04/
LOCATION:Temple Hesed\, 1 Knox Road\, Scranton\, PA\, 18505\, United States
CATEGORIES:Services
ORGANIZER;CN="Temple Hesed":MAILTO:templehesed@comcast.net
END:VEVENT
BEGIN:VEVENT
DTSTART;TZID=UTC:20280204T190000
DTEND;TZID=UTC:20280204T203000
DTSTAMP:20260422T225853
CREATED:20250428T182543Z
LAST-MODIFIED:20260216T234500Z
UID:10000279-1833303600-1833309000@templehesed.org
SUMMARY:Services
DESCRIPTION:Shabbat services begin at 7:00 PM (except on the First Friday of every month when services begin at 6:00 PM)
URL:https://templehesed.org/event/services-2/2028-02-04/
LOCATION:Temple Hesed\, 1 Knox Road\, Scranton\, PA\, 18505\, United States
CATEGORIES:calendar,Services
ORGANIZER;CN="Temple Hesed":MAILTO:templehesed@comcast.net
END:VEVENT
BEGIN:VEVENT
DTSTART;TZID=UTC:20280211T190000
DTEND;TZID=UTC:20280211T203000
DTSTAMP:20260422T225853
CREATED:20250428T182543Z
LAST-MODIFIED:20260216T234500Z
UID:10000280-1833908400-1833913800@templehesed.org
SUMMARY:Services
DESCRIPTION:Shabbat services begin at 7:00 PM (except on the First Friday of every month when services begin at 6:00 PM)
URL:https://templehesed.org/event/services-2/2028-02-11/
LOCATION:Temple Hesed\, 1 Knox Road\, Scranton\, PA\, 18505\, United States
CATEGORIES:calendar,Services
ORGANIZER;CN="Temple Hesed":MAILTO:templehesed@comcast.net
END:VEVENT
BEGIN:VEVENT
DTSTART;TZID=UTC:20280218T190000
DTEND;TZID=UTC:20280218T203000
DTSTAMP:20260422T225853
CREATED:20250428T182543Z
LAST-MODIFIED:20260216T234500Z
UID:10000281-1834513200-1834518600@templehesed.org
SUMMARY:Services
DESCRIPTION:Shabbat services begin at 7:00 PM (except on the First Friday of every month when services begin at 6:00 PM)
URL:https://templehesed.org/event/services-2/2028-02-18/
LOCATION:Temple Hesed\, 1 Knox Road\, Scranton\, PA\, 18505\, United States
CATEGORIES:calendar,Services
ORGANIZER;CN="Temple Hesed":MAILTO:templehesed@comcast.net
END:VEVENT
BEGIN:VEVENT
DTSTART;TZID=UTC:20280225T190000
DTEND;TZID=UTC:20280225T203000
DTSTAMP:20260422T225853
CREATED:20250428T182543Z
LAST-MODIFIED:20260216T234500Z
UID:10000282-1835118000-1835123400@templehesed.org
SUMMARY:Services
DESCRIPTION:Shabbat services begin at 7:00 PM (except on the First Friday of every month when services begin at 6:00 PM)
URL:https://templehesed.org/event/services-2/2028-02-25/
LOCATION:Temple Hesed\, 1 Knox Road\, Scranton\, PA\, 18505\, United States
CATEGORIES:calendar,Services
ORGANIZER;CN="Temple Hesed":MAILTO:templehesed@comcast.net
END:VEVENT
BEGIN:VEVENT
DTSTART;TZID=UTC:20280303T180000
DTEND;TZID=UTC:20280303T190000
DTSTAMP:20260422T225853
CREATED:20250428T182000Z
LAST-MODIFIED:20250428T182000Z
UID:10000117-1835719200-1835722800@templehesed.org
SUMMARY:Services
DESCRIPTION:First Friday of every month Shabbat services begin at 6:00 PM.
URL:https://templehesed.org/event/services/2028-03-03/
LOCATION:Temple Hesed\, 1 Knox Road\, Scranton\, PA\, 18505\, United States
CATEGORIES:Services
ORGANIZER;CN="Temple Hesed":MAILTO:templehesed@comcast.net
END:VEVENT
BEGIN:VEVENT
DTSTART;TZID=UTC:20280303T190000
DTEND;TZID=UTC:20280303T203000
DTSTAMP:20260422T225853
CREATED:20250428T182543Z
LAST-MODIFIED:20260216T234500Z
UID:10000283-1835722800-1835728200@templehesed.org
SUMMARY:Services
DESCRIPTION:Shabbat services begin at 7:00 PM (except on the First Friday of every month when services begin at 6:00 PM)
URL:https://templehesed.org/event/services-2/2028-03-03/
LOCATION:Temple Hesed\, 1 Knox Road\, Scranton\, PA\, 18505\, United States
CATEGORIES:calendar,Services
ORGANIZER;CN="Temple Hesed":MAILTO:templehesed@comcast.net
END:VEVENT
BEGIN:VEVENT
DTSTART;TZID=UTC:20280310T190000
DTEND;TZID=UTC:20280310T203000
DTSTAMP:20260422T225853
CREATED:20250428T182543Z
LAST-MODIFIED:20260216T234500Z
UID:10000284-1836327600-1836333000@templehesed.org
SUMMARY:Services
DESCRIPTION:Shabbat services begin at 7:00 PM (except on the First Friday of every month when services begin at 6:00 PM)
URL:https://templehesed.org/event/services-2/2028-03-10/
LOCATION:Temple Hesed\, 1 Knox Road\, Scranton\, PA\, 18505\, United States
CATEGORIES:calendar,Services
ORGANIZER;CN="Temple Hesed":MAILTO:templehesed@comcast.net
END:VEVENT
BEGIN:VEVENT
DTSTART;TZID=UTC:20280312T183000
DTEND;TZID=UTC:20280312T183000
DTSTAMP:20260422T225853
CREATED:20241108T183447Z
LAST-MODIFIED:20241108T183447Z
UID:10000035-1836498600-1836498600@templehesed.org
SUMMARY:Purim
DESCRIPTION:
URL:https://templehesed.org/event/purim-4/
LOCATION:PA
CATEGORIES:Holidays
END:VEVENT
BEGIN:VEVENT
DTSTART;TZID=UTC:20280317T190000
DTEND;TZID=UTC:20280317T203000
DTSTAMP:20260422T225853
CREATED:20250428T182543Z
LAST-MODIFIED:20260216T234500Z
UID:10000285-1836932400-1836937800@templehesed.org
SUMMARY:Services
DESCRIPTION:Shabbat services begin at 7:00 PM (except on the First Friday of every month when services begin at 6:00 PM)
URL:https://templehesed.org/event/services-2/2028-03-17/
LOCATION:Temple Hesed\, 1 Knox Road\, Scranton\, PA\, 18505\, United States
CATEGORIES:calendar,Services
ORGANIZER;CN="Temple Hesed":MAILTO:templehesed@comcast.net
END:VEVENT
BEGIN:VEVENT
DTSTART;TZID=UTC:20280324T190000
DTEND;TZID=UTC:20280324T203000
DTSTAMP:20260422T225853
CREATED:20250428T182543Z
LAST-MODIFIED:20260216T234500Z
UID:10000286-1837537200-1837542600@templehesed.org
SUMMARY:Services
DESCRIPTION:Shabbat services begin at 7:00 PM (except on the First Friday of every month when services begin at 6:00 PM)
URL:https://templehesed.org/event/services-2/2028-03-24/
LOCATION:Temple Hesed\, 1 Knox Road\, Scranton\, PA\, 18505\, United States
CATEGORIES:calendar,Services
ORGANIZER;CN="Temple Hesed":MAILTO:templehesed@comcast.net
END:VEVENT
BEGIN:VEVENT
DTSTART;TZID=UTC:20280331T190000
DTEND;TZID=UTC:20280331T203000
DTSTAMP:20260422T225853
CREATED:20250428T182543Z
LAST-MODIFIED:20260216T234500Z
UID:10000287-1838142000-1838147400@templehesed.org
SUMMARY:Services
DESCRIPTION:Shabbat services begin at 7:00 PM (except on the First Friday of every month when services begin at 6:00 PM)
URL:https://templehesed.org/event/services-2/2028-03-31/
LOCATION:Temple Hesed\, 1 Knox Road\, Scranton\, PA\, 18505\, United States
CATEGORIES:calendar,Services
ORGANIZER;CN="Temple Hesed":MAILTO:templehesed@comcast.net
END:VEVENT
BEGIN:VEVENT
DTSTART;TZID=UTC:20280407T180000
DTEND;TZID=UTC:20280407T190000
DTSTAMP:20260422T225853
CREATED:20250428T182000Z
LAST-MODIFIED:20250428T182000Z
UID:10000118-1838743200-1838746800@templehesed.org
SUMMARY:Services
DESCRIPTION:First Friday of every month Shabbat services begin at 6:00 PM.
URL:https://templehesed.org/event/services/2028-04-07/
LOCATION:Temple Hesed\, 1 Knox Road\, Scranton\, PA\, 18505\, United States
CATEGORIES:Services
ORGANIZER;CN="Temple Hesed":MAILTO:templehesed@comcast.net
END:VEVENT
BEGIN:VEVENT
DTSTART;TZID=UTC:20280407T190000
DTEND;TZID=UTC:20280407T203000
DTSTAMP:20260422T225853
CREATED:20250428T182543Z
LAST-MODIFIED:20260216T234500Z
UID:10000288-1838746800-1838752200@templehesed.org
SUMMARY:Services
DESCRIPTION:Shabbat services begin at 7:00 PM (except on the First Friday of every month when services begin at 6:00 PM)
URL:https://templehesed.org/event/services-2/2028-04-07/
LOCATION:Temple Hesed\, 1 Knox Road\, Scranton\, PA\, 18505\, United States
CATEGORIES:calendar,Services
ORGANIZER;CN="Temple Hesed":MAILTO:templehesed@comcast.net
END:VEVENT
BEGIN:VEVENT
DTSTART;TZID=UTC:20280411T183000
DTEND;TZID=UTC:20280412T193000
DTSTAMP:20260422T225853
CREATED:20241108T183506Z
LAST-MODIFIED:20241108T183506Z
UID:10000036-1839090600-1839180600@templehesed.org
SUMMARY:Pesach (Passover)
DESCRIPTION:
URL:https://templehesed.org/event/pesach-passover-7/
LOCATION:PA
CATEGORIES:Holidays
END:VEVENT
BEGIN:VEVENT
DTSTART;TZID=UTC:20280414T190000
DTEND;TZID=UTC:20280414T203000
DTSTAMP:20260422T225853
CREATED:20250428T182543Z
LAST-MODIFIED:20260216T234500Z
UID:10000289-1839351600-1839357000@templehesed.org
SUMMARY:Services
DESCRIPTION:Shabbat services begin at 7:00 PM (except on the First Friday of every month when services begin at 6:00 PM)
URL:https://templehesed.org/event/services-2/2028-04-14/
LOCATION:Temple Hesed\, 1 Knox Road\, Scranton\, PA\, 18505\, United States
CATEGORIES:calendar,Services
ORGANIZER;CN="Temple Hesed":MAILTO:templehesed@comcast.net
END:VEVENT
END:VCALENDAR