BEGIN:VCALENDAR
VERSION:2.0
PRODID:-//Temple Hesed - ECPv6.15.20//NONSGML v1.0//EN
CALSCALE:GREGORIAN
METHOD:PUBLISH
X-ORIGINAL-URL:https://templehesed.org
X-WR-CALDESC:Events for Temple Hesed
REFRESH-INTERVAL;VALUE=DURATION:PT1H
X-Robots-Tag:noindex
X-PUBLISHED-TTL:PT1H
BEGIN:VTIMEZONE
TZID:UTC
BEGIN:STANDARD
TZOFFSETFROM:+0000
TZOFFSETTO:+0000
TZNAME:UTC
DTSTART:20240101T000000
END:STANDARD
END:VTIMEZONE
BEGIN:VEVENT
DTSTART;TZID=UTC:20250412T193000
DTEND;TZID=UTC:20250420T193000
DTSTAMP:20260421T115530
CREATED:20250221T211138Z
LAST-MODIFIED:20250221T211304Z
UID:10000077-1744486200-1745177400@templehesed.org
SUMMARY:Pesach (Passover)
DESCRIPTION:
URL:https://templehesed.org/event/pesach-passover/
LOCATION:PA
CATEGORIES:Holidays
END:VEVENT
BEGIN:VEVENT
DTSTART;TZID=UTC:20250413T173000
DTEND;TZID=UTC:20250413T203000
DTSTAMP:20260421T115530
CREATED:20250320T213854Z
LAST-MODIFIED:20250321T153719Z
UID:10000082-1744565400-1744576200@templehesed.org
SUMMARY:Community Passover Seder
DESCRIPTION:Celebrate the second night of Passover with us at Temple Hesed as we come together for a meaningful and traditional Passover Seder. Enjoy a warm and welcoming atmosphere\, a delicious Passover meal\, and the rich traditions of this special holiday. \n📅 Date: Saturday\, April 13\n⏰ Time: 5:30 PM\n📍 Location: Temple Hesed\n💲 Cost: $36/adult | $18/youth (under 10) \nRSVP & Payment Required in Advance – Reserve your spot today! \nJoin friends\, family\, and community members as we retell the story of Exodus and share in the joy of Passover. \nWe look forward to celebrating with you!
URL:https://templehesed.org/event/community-passover-seder/
LOCATION:Scranton JCC\, 601 Jefferson Ave | Scranton\, PA\, Scranton\, PA\, 18510\, United States
CATEGORIES:Events,Youth Religious School
END:VEVENT
BEGIN:VEVENT
DTSTART;VALUE=DATE:20250420
DTEND;VALUE=DATE:20250421
DTSTAMP:20260421T115530
CREATED:20250220T174255Z
LAST-MODIFIED:20250220T174255Z
UID:10000069-1745107200-1745193599@templehesed.org
SUMMARY:Hebrew and Judaica
DESCRIPTION:
URL:https://templehesed.org/event/hebrew-and-judaica-6/
LOCATION:PA
CATEGORIES:Youth Religious School
END:VEVENT
BEGIN:VEVENT
DTSTART;TZID=UTC:20250423T183000
DTEND;TZID=UTC:20250423T203000
DTSTAMP:20260421T115530
CREATED:20250221T210322Z
LAST-MODIFIED:20250411T181815Z
UID:10000074-1745433000-1745440200@templehesed.org
SUMMARY:Yom HaShoah Community Commemoration
DESCRIPTION:
URL:https://templehesed.org/event/yom-hashoah-community-commemoration/
LOCATION:Scranton JCC\, 601 Jefferson Ave | Scranton\, PA\, Scranton\, PA\, 18510\, United States
CATEGORIES:Events
ATTACH;FMTTYPE=image/png:https://templehesed.org/wp-content/uploads/2025/02/Yom-Hashoah-Flyer-2025-April-23-1.png
END:VEVENT
BEGIN:VEVENT
DTSTART;TZID=UTC:20250423T200000
DTEND;TZID=UTC:20250424T200000
DTSTAMP:20260421T115530
CREATED:20250221T211553Z
LAST-MODIFIED:20250221T211553Z
UID:10000078-1745438400-1745524800@templehesed.org
SUMMARY:Yom Hashoah
DESCRIPTION:
URL:https://templehesed.org/event/yom-hashoah/
LOCATION:PA
CATEGORIES:Holidays
END:VEVENT
BEGIN:VEVENT
DTSTART;TZID=UTC:20250427T080000
DTEND;TZID=UTC:20250427T170000
DTSTAMP:20260421T115530
CREATED:20250220T174307Z
LAST-MODIFIED:20250220T174307Z
UID:10000070-1745740800-1745773200@templehesed.org
SUMMARY:Hebrew and Judaica
DESCRIPTION:
URL:https://templehesed.org/event/hebrew-and-judaica-7/
LOCATION:PA
CATEGORIES:Youth Religious School
END:VEVENT
BEGIN:VEVENT
DTSTART;TZID=UTC:20250502T180000
DTEND;TZID=UTC:20250502T190000
DTSTAMP:20260421T115530
CREATED:20250428T182000Z
LAST-MODIFIED:20250428T182000Z
UID:10000083-1746208800-1746212400@templehesed.org
SUMMARY:Services
DESCRIPTION:First Friday of every month Shabbat services begin at 6:00 PM.
URL:https://templehesed.org/event/services/2025-05-02/
LOCATION:Temple Hesed\, 1 Knox Road\, Scranton\, PA\, 18505\, United States
CATEGORIES:Services
ORGANIZER;CN="Temple Hesed":MAILTO:templehesed@comcast.net
END:VEVENT
BEGIN:VEVENT
DTSTART;VALUE=DATE:20250503
DTEND;VALUE=DATE:20250504
DTSTAMP:20260421T115530
CREATED:20250220T174322Z
LAST-MODIFIED:20250220T174322Z
UID:10000071-1746230400-1746316799@templehesed.org
SUMMARY:Brunch and Brachot
DESCRIPTION:
URL:https://templehesed.org/event/brunch-and-brachot-2/
LOCATION:PA
CATEGORIES:Youth Religious School
END:VEVENT
BEGIN:VEVENT
DTSTART;TZID=UTC:20250509T190000
DTEND;TZID=UTC:20250509T203000
DTSTAMP:20260421T115530
CREATED:20250428T182543Z
LAST-MODIFIED:20260216T234500Z
UID:10000143-1746817200-1746822600@templehesed.org
SUMMARY:Services
DESCRIPTION:Shabbat services begin at 7:00 PM (except on the First Friday of every month when services begin at 6:00 PM)
URL:https://templehesed.org/event/services-2/2025-05-09/
LOCATION:Temple Hesed\, 1 Knox Road\, Scranton\, PA\, 18505\, United States
CATEGORIES:calendar,Services
ORGANIZER;CN="Temple Hesed":MAILTO:templehesed@comcast.net
END:VEVENT
BEGIN:VEVENT
DTSTART;TZID=UTC:20250515T200000
DTEND;TZID=UTC:20250516T200000
DTSTAMP:20260421T115530
CREATED:20250221T212001Z
LAST-MODIFIED:20250221T212001Z
UID:10000079-1747339200-1747425600@templehesed.org
SUMMARY:Lag B'omer
DESCRIPTION:
URL:https://templehesed.org/event/lag-bomer/
LOCATION:PA
CATEGORIES:Holidays
END:VEVENT
BEGIN:VEVENT
DTSTART;TZID=UTC:20250516T190000
DTEND;TZID=UTC:20250516T203000
DTSTAMP:20260421T115530
CREATED:20250428T182543Z
LAST-MODIFIED:20260216T234500Z
UID:10000144-1747422000-1747427400@templehesed.org
SUMMARY:Services
DESCRIPTION:Shabbat services begin at 7:00 PM (except on the First Friday of every month when services begin at 6:00 PM)
URL:https://templehesed.org/event/services-2/2025-05-16/
LOCATION:Temple Hesed\, 1 Knox Road\, Scranton\, PA\, 18505\, United States
CATEGORIES:calendar,Services
ORGANIZER;CN="Temple Hesed":MAILTO:templehesed@comcast.net
END:VEVENT
BEGIN:VEVENT
DTSTART;TZID=UTC:20250516T203000
DTEND;TZID=UTC:20250516T213000
DTSTAMP:20260421T115530
CREATED:20250221T210455Z
LAST-MODIFIED:20250221T210504Z
UID:10000075-1747427400-1747431000@templehesed.org
SUMMARY:Lag B’omer bonfire
DESCRIPTION:
URL:https://templehesed.org/event/lag-bomer-bonfire/
LOCATION:PA
CATEGORIES:Events
END:VEVENT
BEGIN:VEVENT
DTSTART;VALUE=DATE:20250518
DTEND;VALUE=DATE:20250519
DTSTAMP:20260421T115530
CREATED:20250220T174332Z
LAST-MODIFIED:20250220T201715Z
UID:10000072-1747526400-1747612799@templehesed.org
SUMMARY:Youth Education: Family Program
DESCRIPTION:
URL:https://templehesed.org/event/final-day-family-program/
LOCATION:PA
CATEGORIES:Youth Religious School
END:VEVENT
BEGIN:VEVENT
DTSTART;TZID=UTC:20250523T190000
DTEND;TZID=UTC:20250523T203000
DTSTAMP:20260421T115530
CREATED:20250428T182543Z
LAST-MODIFIED:20260216T234500Z
UID:10000145-1748026800-1748032200@templehesed.org
SUMMARY:Services
DESCRIPTION:Shabbat services begin at 7:00 PM (except on the First Friday of every month when services begin at 6:00 PM)
URL:https://templehesed.org/event/services-2/2025-05-23/
LOCATION:Temple Hesed\, 1 Knox Road\, Scranton\, PA\, 18505\, United States
CATEGORIES:calendar,Services
ORGANIZER;CN="Temple Hesed":MAILTO:templehesed@comcast.net
END:VEVENT
BEGIN:VEVENT
DTSTART;TZID=UTC:20250530T190000
DTEND;TZID=UTC:20250530T203000
DTSTAMP:20260421T115530
CREATED:20250428T184258Z
LAST-MODIFIED:20250428T184258Z
UID:10000146-1748631600-1748637000@templehesed.org
SUMMARY:Confirmation Class & Services
DESCRIPTION:Shabbat services begin at 7:00 PM (except on the First Friday of every month when services begin at 6:00 PM)
URL:https://templehesed.org/event/services-2-2/
LOCATION:PA
CATEGORIES:Services
ORGANIZER;CN="Temple Hesed":MAILTO:templehesed@comcast.net
END:VEVENT
BEGIN:VEVENT
DTSTART;TZID=UTC:20250601T203000
DTEND;TZID=UTC:20250603T203000
DTSTAMP:20260421T115530
CREATED:20241108T174627Z
LAST-MODIFIED:20250221T212150Z
UID:10000012-1748809800-1748982600@templehesed.org
SUMMARY:Shavuot (Feast Of Weeks)
DESCRIPTION:
URL:https://templehesed.org/event/shavuot-feast-of-weeks/
LOCATION:PA
CATEGORIES:Holidays
END:VEVENT
BEGIN:VEVENT
DTSTART;TZID=UTC:20250606T180000
DTEND;TZID=UTC:20250606T190000
DTSTAMP:20260421T115530
CREATED:20250428T182000Z
LAST-MODIFIED:20250428T182000Z
UID:10000084-1749232800-1749236400@templehesed.org
SUMMARY:Services
DESCRIPTION:First Friday of every month Shabbat services begin at 6:00 PM.
URL:https://templehesed.org/event/services/2025-06-06/
LOCATION:Temple Hesed\, 1 Knox Road\, Scranton\, PA\, 18505\, United States
CATEGORIES:Services
ORGANIZER;CN="Temple Hesed":MAILTO:templehesed@comcast.net
END:VEVENT
BEGIN:VEVENT
DTSTART;TZID=UTC:20250612T190000
DTEND;TZID=UTC:20250612T203000
DTSTAMP:20260421T115530
CREATED:20250612T022909Z
LAST-MODIFIED:20250612T022909Z
UID:10000397-1749754800-1749760200@templehesed.org
SUMMARY:Pride Shabbat
DESCRIPTION:Everyone is welcome to attend our annual Pride Shabbat! Rainbow attire encouraged.
URL:https://templehesed.org/event/pride-shabbat/
LOCATION:Temple Hesed\, 1 Knox Road\, Scranton\, PA\, 18505\, United States
CATEGORIES:calendar,Services
ATTACH;FMTTYPE=image/png:https://templehesed.org/wp-content/uploads/2025/06/temple-hesed-social.png
ORGANIZER;CN="Temple Hesed":MAILTO:templehesed@comcast.net
END:VEVENT
BEGIN:VEVENT
DTSTART;TZID=UTC:20250613T190000
DTEND;TZID=UTC:20250613T203000
DTSTAMP:20260421T115530
CREATED:20250428T182543Z
LAST-MODIFIED:20260216T234500Z
UID:10000147-1749841200-1749846600@templehesed.org
SUMMARY:Services
DESCRIPTION:Shabbat services begin at 7:00 PM (except on the First Friday of every month when services begin at 6:00 PM)
URL:https://templehesed.org/event/services-2/2025-06-13/
LOCATION:Temple Hesed\, 1 Knox Road\, Scranton\, PA\, 18505\, United States
CATEGORIES:calendar,Services
ORGANIZER;CN="Temple Hesed":MAILTO:templehesed@comcast.net
END:VEVENT
BEGIN:VEVENT
DTSTART;TZID=UTC:20250620T190000
DTEND;TZID=UTC:20250620T203000
DTSTAMP:20260421T115530
CREATED:20250428T182543Z
LAST-MODIFIED:20260216T234500Z
UID:10000148-1750446000-1750451400@templehesed.org
SUMMARY:Services
DESCRIPTION:Shabbat services begin at 7:00 PM (except on the First Friday of every month when services begin at 6:00 PM)
URL:https://templehesed.org/event/services-2/2025-06-20/
LOCATION:Temple Hesed\, 1 Knox Road\, Scranton\, PA\, 18505\, United States
CATEGORIES:calendar,Services
ORGANIZER;CN="Temple Hesed":MAILTO:templehesed@comcast.net
END:VEVENT
BEGIN:VEVENT
DTSTART;TZID=UTC:20250620T190000
DTEND;TZID=UTC:20250620T203000
DTSTAMP:20260421T115530
CREATED:20250616T200740Z
LAST-MODIFIED:20250616T200740Z
UID:10000398-1750446000-1750451400@templehesed.org
SUMMARY:Services - In Person Only
DESCRIPTION:Friday Night Services at Temple Hesed — Everyone is welcome. \nPlease note that services will be in-person only.
URL:https://templehesed.org/event/services-in-person-only/
LOCATION:Temple Hesed\, 1 Knox Road\, Scranton\, PA\, 18505\, United States
CATEGORIES:calendar,Services
ORGANIZER;CN="Temple Hesed":MAILTO:templehesed@comcast.net
END:VEVENT
BEGIN:VEVENT
DTSTART;TZID=UTC:20250627T190000
DTEND;TZID=UTC:20250627T203000
DTSTAMP:20260421T115530
CREATED:20250428T182543Z
LAST-MODIFIED:20260216T234500Z
UID:10000149-1751050800-1751056200@templehesed.org
SUMMARY:Services
DESCRIPTION:Shabbat services begin at 7:00 PM (except on the First Friday of every month when services begin at 6:00 PM)
URL:https://templehesed.org/event/services-2/2025-06-27/
LOCATION:Temple Hesed\, 1 Knox Road\, Scranton\, PA\, 18505\, United States
CATEGORIES:calendar,Services
ORGANIZER;CN="Temple Hesed":MAILTO:templehesed@comcast.net
END:VEVENT
BEGIN:VEVENT
DTSTART;TZID=UTC:20250627T190000
DTEND;TZID=UTC:20250627T203000
DTSTAMP:20260421T115530
CREATED:20250616T200850Z
LAST-MODIFIED:20250616T200850Z
UID:10000399-1751050800-1751056200@templehesed.org
SUMMARY:Services - In Person Only
DESCRIPTION:Friday Night Services at Temple Hesed — Everyone is welcome. \nPlease note that services will be in-person only.
URL:https://templehesed.org/event/services-in-person-only-2/
LOCATION:Temple Hesed\, 1 Knox Road\, Scranton\, PA\, 18505\, United States
CATEGORIES:calendar,Services
ORGANIZER;CN="Temple Hesed":MAILTO:templehesed@comcast.net
END:VEVENT
BEGIN:VEVENT
DTSTART;VALUE=DATE:20250704
DTEND;VALUE=DATE:20250705
DTSTAMP:20260421T115530
CREATED:20250616T201058Z
LAST-MODIFIED:20250616T201058Z
UID:10000400-1751587200-1751673599@templehesed.org
SUMMARY:No Services
DESCRIPTION:Services will not be held tonight. We are very sorry for any inconvenience.
URL:https://templehesed.org/event/no-services/
LOCATION:PA
CATEGORIES:calendar,Services
END:VEVENT
BEGIN:VEVENT
DTSTART;TZID=UTC:20250704T180000
DTEND;TZID=UTC:20250704T190000
DTSTAMP:20260421T115530
CREATED:20250428T182000Z
LAST-MODIFIED:20250428T182000Z
UID:10000085-1751652000-1751655600@templehesed.org
SUMMARY:Services
DESCRIPTION:First Friday of every month Shabbat services begin at 6:00 PM.
URL:https://templehesed.org/event/services/2025-07-04/
LOCATION:Temple Hesed\, 1 Knox Road\, Scranton\, PA\, 18505\, United States
CATEGORIES:Services
ORGANIZER;CN="Temple Hesed":MAILTO:templehesed@comcast.net
END:VEVENT
BEGIN:VEVENT
DTSTART;TZID=UTC:20250711T190000
DTEND;TZID=UTC:20250711T203000
DTSTAMP:20260421T115530
CREATED:20250428T182543Z
LAST-MODIFIED:20260216T234500Z
UID:10000150-1752260400-1752265800@templehesed.org
SUMMARY:Services
DESCRIPTION:Shabbat services begin at 7:00 PM (except on the First Friday of every month when services begin at 6:00 PM)
URL:https://templehesed.org/event/services-2/2025-07-11/
LOCATION:Temple Hesed\, 1 Knox Road\, Scranton\, PA\, 18505\, United States
CATEGORIES:calendar,Services
ORGANIZER;CN="Temple Hesed":MAILTO:templehesed@comcast.net
END:VEVENT
BEGIN:VEVENT
DTSTART;TZID=UTC:20250716T190000
DTEND;TZID=UTC:20250716T200000
DTSTAMP:20260421T115530
CREATED:20250527T203059Z
LAST-MODIFIED:20250527T203059Z
UID:10000396-1752692400-1752696000@templehesed.org
SUMMARY:Annual Meeting
DESCRIPTION:
URL:https://templehesed.org/event/annual-meeting/
LOCATION:PA
CATEGORIES:calendar,Events
END:VEVENT
BEGIN:VEVENT
DTSTART;TZID=UTC:20250718T190000
DTEND;TZID=UTC:20250718T203000
DTSTAMP:20260421T115530
CREATED:20250428T182543Z
LAST-MODIFIED:20260216T234500Z
UID:10000151-1752865200-1752870600@templehesed.org
SUMMARY:Services
DESCRIPTION:Shabbat services begin at 7:00 PM (except on the First Friday of every month when services begin at 6:00 PM)
URL:https://templehesed.org/event/services-2/2025-07-18/
LOCATION:Temple Hesed\, 1 Knox Road\, Scranton\, PA\, 18505\, United States
CATEGORIES:calendar,Services
ORGANIZER;CN="Temple Hesed":MAILTO:templehesed@comcast.net
END:VEVENT
BEGIN:VEVENT
DTSTART;TZID=UTC:20250718T190000
DTEND;TZID=UTC:20250718T203000
DTSTAMP:20260421T115530
CREATED:20250629T193829Z
LAST-MODIFIED:20250629T193829Z
UID:10000401-1752865200-1752870600@templehesed.org
SUMMARY:Shabbat Under the Stars
DESCRIPTION:Join us for a very special Shabbat Under the Stars!
URL:https://templehesed.org/event/shabbat-under-the-stars/
LOCATION:Temple Hesed\, 1 Knox Road\, Scranton\, PA\, 18505\, United States
CATEGORIES:calendar,Services
ATTACH;FMTTYPE=image/png:https://templehesed.org/wp-content/uploads/2025/06/Untitled-design-1.png
ORGANIZER;CN="Temple Hesed":MAILTO:templehesed@comcast.net
END:VEVENT
BEGIN:VEVENT
DTSTART;TZID=UTC:20250725T190000
DTEND;TZID=UTC:20250725T203000
DTSTAMP:20260421T115530
CREATED:20250428T182543Z
LAST-MODIFIED:20260216T234500Z
UID:10000152-1753470000-1753475400@templehesed.org
SUMMARY:Services
DESCRIPTION:Shabbat services begin at 7:00 PM (except on the First Friday of every month when services begin at 6:00 PM)
URL:https://templehesed.org/event/services-2/2025-07-25/
LOCATION:Temple Hesed\, 1 Knox Road\, Scranton\, PA\, 18505\, United States
CATEGORIES:calendar,Services
ORGANIZER;CN="Temple Hesed":MAILTO:templehesed@comcast.net
END:VEVENT
END:VCALENDAR