BEGIN:VCALENDAR
VERSION:2.0
PRODID:-//Temple Hesed - ECPv6.15.20//NONSGML v1.0//EN
CALSCALE:GREGORIAN
METHOD:PUBLISH
X-WR-CALNAME:Temple Hesed
X-ORIGINAL-URL:https://templehesed.org
X-WR-CALDESC:Events for Temple Hesed
REFRESH-INTERVAL;VALUE=DURATION:PT1H
X-Robots-Tag:noindex
X-PUBLISHED-TTL:PT1H
BEGIN:VTIMEZONE
TZID:UTC
BEGIN:STANDARD
TZOFFSETFROM:+0000
TZOFFSETTO:+0000
TZNAME:UTC
DTSTART:20230101T000000
END:STANDARD
END:VTIMEZONE
BEGIN:VEVENT
DTSTART;VALUE=DATE:20250330
DTEND;VALUE=DATE:20250331
DTSTAMP:20260422T004945
CREATED:20250220T173956Z
LAST-MODIFIED:20250220T173956Z
UID:10000066-1743292800-1743379199@templehesed.org
SUMMARY:Hebrew and Judaica
DESCRIPTION:
URL:https://templehesed.org/event/hebrew-and-judaica-5/
LOCATION:PA
CATEGORIES:Youth Religious School
END:VEVENT
BEGIN:VEVENT
DTSTART;VALUE=DATE:20250323
DTEND;VALUE=DATE:20250324
DTSTAMP:20260422T004945
CREATED:20250220T173944Z
LAST-MODIFIED:20250220T173944Z
UID:10000065-1742688000-1742774399@templehesed.org
SUMMARY:Hebrew and Judaica
DESCRIPTION:
URL:https://templehesed.org/event/hebrew-and-judaica-4/
LOCATION:PA
CATEGORIES:Youth Religious School
END:VEVENT
BEGIN:VEVENT
DTSTART;TZID=UTC:20250315T163000
DTEND;TZID=UTC:20250315T193000
DTSTAMP:20260422T004945
CREATED:20250220T173850Z
LAST-MODIFIED:20250220T173850Z
UID:10000064-1742056200-1742067000@templehesed.org
SUMMARY:Purim Family Program\, Dinner\, and Shpiel
DESCRIPTION:
URL:https://templehesed.org/event/purim-family-program-dinner-and-shpiel/
LOCATION:PA
CATEGORIES:Youth Religious School
END:VEVENT
BEGIN:VEVENT
DTSTART;TZID=UTC:20250314T183000
DTEND;TZID=UTC:20250314T183000
DTSTAMP:20260422T004945
CREATED:20241108T174257Z
LAST-MODIFIED:20241108T174257Z
UID:10000008-1741977000-1741977000@templehesed.org
SUMMARY:Purim
DESCRIPTION:
URL:https://templehesed.org/event/purim/
LOCATION:PA
CATEGORIES:Holidays
END:VEVENT
BEGIN:VEVENT
DTSTART;TZID=UTC:20250313T190000
DTEND;TZID=UTC:20250314T190000
DTSTAMP:20260422T004945
CREATED:20250221T210739Z
LAST-MODIFIED:20250221T210739Z
UID:10000076-1741892400-1741978800@templehesed.org
SUMMARY:Purim
DESCRIPTION:
URL:https://templehesed.org/event/purim-7/
LOCATION:PA
CATEGORIES:Holidays
END:VEVENT
BEGIN:VEVENT
DTSTART;VALUE=DATE:20250309
DTEND;VALUE=DATE:20250310
DTSTAMP:20260422T004945
CREATED:20250220T173824Z
LAST-MODIFIED:20250220T173824Z
UID:10000063-1741478400-1741564799@templehesed.org
SUMMARY:Hebrew and Judaica
DESCRIPTION:
URL:https://templehesed.org/event/hebrew-and-judaica-3/
LOCATION:PA
CATEGORIES:Youth Religious School
END:VEVENT
BEGIN:VEVENT
DTSTART;VALUE=DATE:20250301
DTEND;VALUE=DATE:20250302
DTSTAMP:20260422T004945
CREATED:20250220T173806Z
LAST-MODIFIED:20250220T173806Z
UID:10000062-1740787200-1740873599@templehesed.org
SUMMARY:Brunch and Brachot
DESCRIPTION:
URL:https://templehesed.org/event/brunch-and-brachot/
LOCATION:PA
CATEGORIES:Youth Religious School
END:VEVENT
BEGIN:VEVENT
DTSTART;VALUE=DATE:20250223
DTEND;VALUE=DATE:20250224
DTSTAMP:20260422T004945
CREATED:20250220T173655Z
LAST-MODIFIED:20250220T173655Z
UID:10000061-1740268800-1740355199@templehesed.org
SUMMARY:Hebrew and Judaica
DESCRIPTION:
URL:https://templehesed.org/event/hebrew-and-judaica-2/
LOCATION:PA
CATEGORIES:Youth Religious School
END:VEVENT
BEGIN:VEVENT
DTSTART;VALUE=DATE:20250216
DTEND;VALUE=DATE:20250217
DTSTAMP:20260422T004945
CREATED:20250220T173642Z
LAST-MODIFIED:20250220T173642Z
UID:10000060-1739664000-1739750399@templehesed.org
SUMMARY:Hebrew and Judaica
DESCRIPTION:
URL:https://templehesed.org/event/hebrew-and-judaica/
LOCATION:PA
CATEGORIES:Youth Religious School
END:VEVENT
BEGIN:VEVENT
DTSTART;TZID=UTC:20250212T180000
DTEND;TZID=UTC:20250212T180000
DTSTAMP:20260422T004945
CREATED:20250220T173547Z
LAST-MODIFIED:20250220T173547Z
UID:10000059-1739383200-1739383200@templehesed.org
SUMMARY:Tu B’Shvat Seder 6 pm
DESCRIPTION:
URL:https://templehesed.org/event/tu-bshvat-seder-6-pm/
LOCATION:PA
CATEGORIES:Youth Religious School
END:VEVENT
BEGIN:VEVENT
DTSTART;TZID=UTC:20241226T183000
DTEND;TZID=UTC:20250102T193000
DTSTAMP:20260422T004945
CREATED:20241108T174152Z
LAST-MODIFIED:20241108T174152Z
UID:10000007-1735237800-1735846200@templehesed.org
SUMMARY:Hanukkah (Festival Of Lights)
DESCRIPTION:
URL:https://templehesed.org/event/hanukkah-festival-of-lights/
LOCATION:PA
CATEGORIES:Holidays
END:VEVENT
END:VCALENDAR