BEGIN:VCALENDAR
VERSION:2.0
PRODID:-//Temple Hesed - ECPv6.15.20//NONSGML v1.0//EN
CALSCALE:GREGORIAN
METHOD:PUBLISH
X-ORIGINAL-URL:https://templehesed.org
X-WR-CALDESC:Events for Temple Hesed
REFRESH-INTERVAL;VALUE=DURATION:PT1H
X-Robots-Tag:noindex
X-PUBLISHED-TTL:PT1H
BEGIN:VTIMEZONE
TZID:UTC
BEGIN:STANDARD
TZOFFSETFROM:+0000
TZOFFSETTO:+0000
TZNAME:UTC
DTSTART:20250101T000000
END:STANDARD
END:VTIMEZONE
BEGIN:VEVENT
DTSTART;TZID=UTC:20260402T170000
DTEND;TZID=UTC:20260402T203000
DTSTAMP:20260423T200118
CREATED:20251216T162204Z
LAST-MODIFIED:20260216T234144Z
UID:10000431-1775149200-1775161800@templehesed.org
SUMMARY:Second Night Passover Seder
DESCRIPTION:Join us for a meaningful and welcoming Second Night Passover Seder as we gather in community to retell the story of the Exodus\, share in tradition\, and celebrate together. \nWhether this is your first Seder or one you look forward to each year\, celebrating in community adds something special — connection\, song\, reflection\, and a shared table. \nThis year’s Seder will be fully Passover-approved and catered\, allowing everyone to relax and fully participate in the evening. \nTricolor Gefilte FishMatzo Ball SoupEntree Choice of: Grilled Chicken Breast with Bruschetta Topping | 5-hr Short Ribs | Vegetable Platter Ice Cream Sundae Bar & Passover DessertsChildren’s Menu (10 and younger) – Grilled Chicken Strips & French Fries \n$40 per adult$20 per child (10 & under) \nSeating is limited and advance registration is required.Please register by March 25 so we can prepare accordingly. \nWe look forward to celebrating Passover together as a Temple Hesed community.
URL:https://templehesed.org/event/second-night-passover-seder/
LOCATION:Temple Hesed\, 1 Knox Road\, Scranton\, PA\, 18505\, United States
CATEGORIES:calendar,Events,Holidays
ATTACH;FMTTYPE=image/jpeg:https://templehesed.org/wp-content/uploads/2025/12/Passover-Seder.jpg
ORGANIZER;CN="Temple Hesed":MAILTO:templehesed@comcast.net
END:VEVENT
BEGIN:VEVENT
DTSTART;TZID=UTC:20260402T183000
DTEND;TZID=UTC:20260403T193000
DTSTAMP:20260423T200118
CREATED:20241108T182302Z
LAST-MODIFIED:20241108T182302Z
UID:10000015-1775154600-1775244600@templehesed.org
SUMMARY:Pesach (Passover)
DESCRIPTION:
URL:https://templehesed.org/event/pesach-passover-3/
LOCATION:PA
CATEGORIES:Holidays
END:VEVENT
END:VCALENDAR