BEGIN:VCALENDAR
VERSION:2.0
PRODID:-//Temple Hesed - ECPv6.15.20//NONSGML v1.0//EN
CALSCALE:GREGORIAN
METHOD:PUBLISH
X-ORIGINAL-URL:https://templehesed.org
X-WR-CALDESC:Events for Temple Hesed
REFRESH-INTERVAL;VALUE=DURATION:PT1H
X-Robots-Tag:noindex
X-PUBLISHED-TTL:PT1H
BEGIN:VTIMEZONE
TZID:UTC
BEGIN:STANDARD
TZOFFSETFROM:+0000
TZOFFSETTO:+0000
TZNAME:UTC
DTSTART:20250101T000000
END:STANDARD
END:VTIMEZONE
BEGIN:VEVENT
DTSTART;TZID=UTC:20260201T173000
DTEND;TZID=UTC:20260202T173000
DTSTAMP:20260423T225432
CREATED:20250221T212920Z
LAST-MODIFIED:20250221T212920Z
UID:10000081-1769967000-1770053400@templehesed.org
SUMMARY:Tu Bishvat
DESCRIPTION:
URL:https://templehesed.org/event/tu-bishvat/
LOCATION:PA
CATEGORIES:Holidays
END:VEVENT
END:VCALENDAR