BEGIN:VCALENDAR
VERSION:2.0
PRODID:-//Temple Hesed - ECPv6.15.20//NONSGML v1.0//EN
CALSCALE:GREGORIAN
METHOD:PUBLISH
X-ORIGINAL-URL:https://templehesed.org
X-WR-CALDESC:Events for Temple Hesed
REFRESH-INTERVAL;VALUE=DURATION:PT1H
X-Robots-Tag:noindex
X-PUBLISHED-TTL:PT1H
BEGIN:VTIMEZONE
TZID:UTC
BEGIN:STANDARD
TZOFFSETFROM:+0000
TZOFFSETTO:+0000
TZNAME:UTC
DTSTART:20250101T000000
END:STANDARD
END:VTIMEZONE
BEGIN:VEVENT
DTSTART;TZID=UTC:20260303T183000
DTEND;TZID=UTC:20260303T183000
DTSTAMP:20260423T200019
CREATED:20241108T182221Z
LAST-MODIFIED:20241108T182221Z
UID:10000014-1772562600-1772562600@templehesed.org
SUMMARY:Purim
DESCRIPTION:
URL:https://templehesed.org/event/purim-2/
LOCATION:PA
CATEGORIES:Holidays
END:VEVENT
END:VCALENDAR