BEGIN:VCALENDAR
VERSION:2.0
PRODID:-//Temple Hesed - ECPv6.15.20//NONSGML v1.0//EN
CALSCALE:GREGORIAN
METHOD:PUBLISH
X-WR-CALNAME:Temple Hesed
X-ORIGINAL-URL:https://templehesed.org
X-WR-CALDESC:Events for Temple Hesed
REFRESH-INTERVAL;VALUE=DURATION:PT1H
X-Robots-Tag:noindex
X-PUBLISHED-TTL:PT1H
BEGIN:VTIMEZONE
TZID:UTC
BEGIN:STANDARD
TZOFFSETFROM:+0000
TZOFFSETTO:+0000
TZNAME:UTC
DTSTART:20240101T000000
END:STANDARD
END:VTIMEZONE
BEGIN:VEVENT
DTSTART;TZID=UTC:20251106T190000
DTEND;TZID=UTC:20251106T200000
DTSTAMP:20260422T003025
CREATED:20251028T185854Z
LAST-MODIFIED:20251028T210232Z
UID:10000410-1762455600-1762459200@templehesed.org
SUMMARY:Ethical Wills: Writing Your Legacy | Adult Ed
DESCRIPTION:Taught by Rabbi Daniel Swartz \nThursdays\, November 6\, 13\, 20 & December 4 at 7:00 PM (In person & on Zoom) \nDiscover the powerful and deeply personal Jewish tradition of ethical wills—also known as legacy letters. From Biblical times to the present day\, Jews have passed down not just possessions\, but life lessons\, values\, and hard-earned wisdom through these heartfelt writings. \nIn this four-session course\, we’ll explore extraordinary examples spanning millennia\, including the famous ethical will of Sholem Aleichem\, which appeared on the front page of The New York Times upon his death. Participants will also receive step-by-step guidance and expert support to begin crafting or recording their own ethical wills—an opportunity to reflect on your values and the legacy you wish to share\, at any stage of life. \nThis class is free and open to the public\, but registration is required. \nRegister online\, email\, or call the temple office.
URL:https://templehesed.org/event/ethical-wills-writing-your-legacy-adult-ed/
LOCATION:Temple Hesed\, 1 Knox Road\, Scranton\, PA\, 18505\, United States
CATEGORIES:calendar,Events
ATTACH;FMTTYPE=image/png:https://templehesed.org/wp-content/uploads/2025/10/ny-times.png
ORGANIZER;CN="Temple Hesed":MAILTO:templehesed@comcast.net
END:VEVENT
BEGIN:VEVENT
DTSTART;TZID=UTC:20251113T190000
DTEND;TZID=UTC:20251113T200000
DTSTAMP:20260422T003025
CREATED:20251028T190025Z
LAST-MODIFIED:20251028T190025Z
UID:10000411-1763060400-1763064000@templehesed.org
SUMMARY:Ethical Wills: Writing Your Legacy | Adult Ed
DESCRIPTION:Taught by Rabbi Daniel Swartz \nAdult Ed Series: Thursdays\, November 6\, 13\, 20 & December 4 at 7:00 PM (In person & on Zoom) \nDiscover the powerful and deeply personal Jewish tradition of ethical wills—also known as legacy letters. From Biblical times to the present day\, Jews have passed down not just possessions\, but life lessons\, values\, and hard-earned wisdom through these heartfelt writings. \nIn this four-session course\, we’ll explore extraordinary examples spanning millennia\, including the famous ethical will of Sholem Aleichem\, which appeared on the front page of The New York Times upon his death. Participants will also receive step-by-step guidance and expert support to begin crafting or recording their own ethical wills—an opportunity to reflect on your values and the legacy you wish to share\, at any stage of life. \nThis class is free and open to the public\, but registration is required. \nRegister online\, email\, or call the temple office.
URL:https://templehesed.org/event/ethical-wills-writing-your-legacy-adult-ed-2/
LOCATION:Temple Hesed\, 1 Knox Road\, Scranton\, PA\, 18505\, United States
CATEGORIES:calendar,Events
ATTACH;FMTTYPE=image/png:https://templehesed.org/wp-content/uploads/2025/10/ny-times.png
ORGANIZER;CN="Temple Hesed":MAILTO:templehesed@comcast.net
END:VEVENT
BEGIN:VEVENT
DTSTART;TZID=UTC:20251114T190000
DTEND;TZID=UTC:20251114T203000
DTSTAMP:20260422T003025
CREATED:20250428T182543Z
LAST-MODIFIED:20260216T234500Z
UID:10000164-1763146800-1763152200@templehesed.org
SUMMARY:Services
DESCRIPTION:Shabbat services begin at 7:00 PM (except on the First Friday of every month when services begin at 6:00 PM)
URL:https://templehesed.org/event/services-2/2025-11-14/
LOCATION:Temple Hesed\, 1 Knox Road\, Scranton\, PA\, 18505\, United States
CATEGORIES:calendar,Services
ORGANIZER;CN="Temple Hesed":MAILTO:templehesed@comcast.net
END:VEVENT
BEGIN:VEVENT
DTSTART;TZID=UTC:20251120T190000
DTEND;TZID=UTC:20251120T200000
DTSTAMP:20260422T003025
CREATED:20251028T190109Z
LAST-MODIFIED:20251028T190109Z
UID:10000412-1763665200-1763668800@templehesed.org
SUMMARY:Ethical Wills: Writing Your Legacy | Adult Ed
DESCRIPTION:Taught by Rabbi Daniel Swartz \nAdult Ed Series: Thursdays\, November 6\, 13\, 20 & December 4 at 7:00 PM (In person & on Zoom) \nDiscover the powerful and deeply personal Jewish tradition of ethical wills—also known as legacy letters. From Biblical times to the present day\, Jews have passed down not just possessions\, but life lessons\, values\, and hard-earned wisdom through these heartfelt writings. \nIn this four-session course\, we’ll explore extraordinary examples spanning millennia\, including the famous ethical will of Sholem Aleichem\, which appeared on the front page of The New York Times upon his death. Participants will also receive step-by-step guidance and expert support to begin crafting or recording their own ethical wills—an opportunity to reflect on your values and the legacy you wish to share\, at any stage of life. \nThis class is free and open to the public\, but registration is required. \nRegister online\, email\, or call the temple office.
URL:https://templehesed.org/event/ethical-wills-writing-your-legacy-adult-ed-3/
LOCATION:Temple Hesed\, 1 Knox Road\, Scranton\, PA\, 18505\, United States
CATEGORIES:calendar,Events
ATTACH;FMTTYPE=image/png:https://templehesed.org/wp-content/uploads/2025/10/ny-times.png
ORGANIZER;CN="Temple Hesed":MAILTO:templehesed@comcast.net
END:VEVENT
BEGIN:VEVENT
DTSTART;TZID=UTC:20251121T080000
DTEND;TZID=UTC:20251121T170000
DTSTAMP:20260422T003025
CREATED:20251109T221049Z
LAST-MODIFIED:20251109T221049Z
UID:10000414-1763712000-1763744400@templehesed.org
SUMMARY:Annual Multifaith Thanksgiving PotLuck Celebration
DESCRIPTION:Temple Hesed is honored once again to host the annual Multifaith Thanksgiving Celebration\, in partnership with the Friends of the Poor and the Scranton Area Ministerium. \nJoin us Friday\, November 21\, for a community potluck dinner at 6:00 PM\, followed by the Thanksgiving service at 7:00 PM. \nThis year\, we honor our nation’s immigrant roots and the blessings of liberty\, inspired by Emma Lazarus’s “The New Colossus.” \nRSVP Now
URL:https://templehesed.org/event/annual-multifaith-thanksgiving-potluck-celebration/
LOCATION:Temple Hesed\, 1 Knox Road\, Scranton\, PA\, 18505\, United States
CATEGORIES:calendar,Events
ATTACH;FMTTYPE=image/png:https://templehesed.org/wp-content/uploads/2025/11/Blue-And-White-Modern-Calling-For-Vendors-Instagram-Post-2.png
ORGANIZER;CN="Temple Hesed":MAILTO:templehesed@comcast.net
END:VEVENT
BEGIN:VEVENT
DTSTART;TZID=UTC:20251121T190000
DTEND;TZID=UTC:20251121T203000
DTSTAMP:20260422T003025
CREATED:20250428T182543Z
LAST-MODIFIED:20260216T234500Z
UID:10000165-1763751600-1763757000@templehesed.org
SUMMARY:Services
DESCRIPTION:Shabbat services begin at 7:00 PM (except on the First Friday of every month when services begin at 6:00 PM)
URL:https://templehesed.org/event/services-2/2025-11-21/
LOCATION:Temple Hesed\, 1 Knox Road\, Scranton\, PA\, 18505\, United States
CATEGORIES:calendar,Services
ORGANIZER;CN="Temple Hesed":MAILTO:templehesed@comcast.net
END:VEVENT
BEGIN:VEVENT
DTSTART;TZID=UTC:20251128T190000
DTEND;TZID=UTC:20251128T203000
DTSTAMP:20260422T003025
CREATED:20250428T182543Z
LAST-MODIFIED:20260216T234500Z
UID:10000166-1764356400-1764361800@templehesed.org
SUMMARY:Services
DESCRIPTION:Shabbat services begin at 7:00 PM (except on the First Friday of every month when services begin at 6:00 PM)
URL:https://templehesed.org/event/services-2/2025-11-28/
LOCATION:Temple Hesed\, 1 Knox Road\, Scranton\, PA\, 18505\, United States
CATEGORIES:calendar,Services
ORGANIZER;CN="Temple Hesed":MAILTO:templehesed@comcast.net
END:VEVENT
BEGIN:VEVENT
DTSTART;TZID=UTC:20251204T190000
DTEND;TZID=UTC:20251204T200000
DTSTAMP:20260422T003025
CREATED:20251028T190155Z
LAST-MODIFIED:20251028T190155Z
UID:10000413-1764874800-1764878400@templehesed.org
SUMMARY:Ethical Wills: Writing Your Legacy | Adult Ed
DESCRIPTION:Taught by Rabbi Daniel Swartz \nAdult Ed Series: Thursdays\, November 6\, 13\, 20 & December 4 at 7:00 PM (In person & on Zoom) \nDiscover the powerful and deeply personal Jewish tradition of ethical wills—also known as legacy letters. From Biblical times to the present day\, Jews have passed down not just possessions\, but life lessons\, values\, and hard-earned wisdom through these heartfelt writings. \nIn this four-session course\, we’ll explore extraordinary examples spanning millennia\, including the famous ethical will of Sholem Aleichem\, which appeared on the front page of The New York Times upon his death. Participants will also receive step-by-step guidance and expert support to begin crafting or recording their own ethical wills—an opportunity to reflect on your values and the legacy you wish to share\, at any stage of life. \nThis class is free and open to the public\, but registration is required. \nRegister online\, email\, or call the temple office.
URL:https://templehesed.org/event/ethical-wills-writing-your-legacy-adult-ed-4/
LOCATION:Temple Hesed\, 1 Knox Road\, Scranton\, PA\, 18505\, United States
CATEGORIES:calendar,Events
ATTACH;FMTTYPE=image/png:https://templehesed.org/wp-content/uploads/2025/10/ny-times.png
ORGANIZER;CN="Temple Hesed":MAILTO:templehesed@comcast.net
END:VEVENT
BEGIN:VEVENT
DTSTART;TZID=UTC:20251212T190000
DTEND;TZID=UTC:20251212T203000
DTSTAMP:20260422T003025
CREATED:20250428T182543Z
LAST-MODIFIED:20260216T234500Z
UID:10000167-1765566000-1765571400@templehesed.org
SUMMARY:Services
DESCRIPTION:Shabbat services begin at 7:00 PM (except on the First Friday of every month when services begin at 6:00 PM)
URL:https://templehesed.org/event/services-2/2025-12-12/
LOCATION:Temple Hesed\, 1 Knox Road\, Scranton\, PA\, 18505\, United States
CATEGORIES:calendar,Services
ORGANIZER;CN="Temple Hesed":MAILTO:templehesed@comcast.net
END:VEVENT
BEGIN:VEVENT
DTSTART;TZID=UTC:20251212T190000
DTEND;TZID=UTC:20251212T203000
DTSTAMP:20260422T003025
CREATED:20251208T212751Z
LAST-MODIFIED:20251208T212751Z
UID:10000417-1765566000-1765571400@templehesed.org
SUMMARY:Services
DESCRIPTION:
URL:https://templehesed.org/event/services-3/
LOCATION:Temple Hesed\, 1 Knox Road\, Scranton\, PA\, 18505\, United States
CATEGORIES:calendar,Services
ORGANIZER;CN="Temple Hesed":MAILTO:templehesed@comcast.net
END:VEVENT
BEGIN:VEVENT
DTSTART;TZID=UTC:20251214T100000
DTEND;TZID=UTC:20251214T113000
DTSTAMP:20260422T003025
CREATED:20251208T212605Z
LAST-MODIFIED:20251208T212605Z
UID:10000416-1765706400-1765711800@templehesed.org
SUMMARY:PreHanukkah Family Celebration
DESCRIPTION:Join us for a family-friendly pre-Hanukkah celebration on Sunday\, December 14\, from 10:00–11:30 AM — and all families are warmly invited. \nKids will enjoy making drip candles and sufganiyot (Hanukkah donuts)\, learning the Hanukkah blessings\, and more. It’s a great way to get into the holiday spirit and connect with our community. \nTo help us plan\, please RSVP if you and your family plan to attend. \nWe look forward to celebrating Hanukkah together! \n\n\n\n\n\n\n\n\n\n\n\n\n\nPlease RSVP: https://www.zeffy.com/en-US/ticketing/prehanukkah-family-event
URL:https://templehesed.org/event/prehanukkah-family-celebration/
LOCATION:Temple Hesed\, 1 Knox Road\, Scranton\, PA\, 18505\, United States
CATEGORIES:calendar,Events,Holidays,Youth Religious School
ORGANIZER;CN="Temple Hesed":MAILTO:templehesed@comcast.net
END:VEVENT
BEGIN:VEVENT
DTSTART;TZID=UTC:20251219T180000
DTEND;TZID=UTC:20251219T203000
DTSTAMP:20260422T003025
CREATED:20251208T212414Z
LAST-MODIFIED:20251208T213644Z
UID:10000415-1766167200-1766176200@templehesed.org
SUMMARY:Chanuakh Potluck - Latke Cookoff - Services
DESCRIPTION:Please sign up for Potluck & Latke Cookoff: https://www.zeffy.com/en-US/ticketing/hanukkah-potluck-and-latkes-celebration \nPotluck is at 6PM | Services at 7PM
URL:https://templehesed.org/event/chanuakh-potluck-latke-cookoff-services/
LOCATION:Temple Hesed\, 1 Knox Road\, Scranton\, PA\, 18505\, United States
CATEGORIES:calendar,Events,Holidays,Services
ORGANIZER;CN="Temple Hesed":MAILTO:templehesed@comcast.net
END:VEVENT
BEGIN:VEVENT
DTSTART;TZID=UTC:20251219T190000
DTEND;TZID=UTC:20251219T203000
DTSTAMP:20260422T003025
CREATED:20250428T182543Z
LAST-MODIFIED:20260216T234500Z
UID:10000168-1766170800-1766176200@templehesed.org
SUMMARY:Services
DESCRIPTION:Shabbat services begin at 7:00 PM (except on the First Friday of every month when services begin at 6:00 PM)
URL:https://templehesed.org/event/services-2/2025-12-19/
LOCATION:Temple Hesed\, 1 Knox Road\, Scranton\, PA\, 18505\, United States
CATEGORIES:calendar,Services
ORGANIZER;CN="Temple Hesed":MAILTO:templehesed@comcast.net
END:VEVENT
BEGIN:VEVENT
DTSTART;VALUE=DATE:20251226
DTEND;VALUE=DATE:20251227
DTSTAMP:20260422T003025
CREATED:20251208T212927Z
LAST-MODIFIED:20251208T212927Z
UID:10000418-1766707200-1766793599@templehesed.org
SUMMARY:No Services
DESCRIPTION:We will not be holding Friday night services.
URL:https://templehesed.org/event/no-services-2/
LOCATION:PA
CATEGORIES:calendar,Services
END:VEVENT
BEGIN:VEVENT
DTSTART;TZID=UTC:20251228T100000
DTEND;TZID=UTC:20251228T113000
DTSTAMP:20260422T003025
CREATED:20251216T161522Z
LAST-MODIFIED:20251216T161522Z
UID:10000425-1766916000-1766921400@templehesed.org
SUMMARY:No Religious School
DESCRIPTION:We will not be holding class for the religious school.
URL:https://templehesed.org/event/no-religious-school/2025-12-28/
LOCATION:PA
CATEGORIES:calendar,Youth Religious School
END:VEVENT
BEGIN:VEVENT
DTSTART;VALUE=DATE:20260102
DTEND;VALUE=DATE:20260103
DTSTAMP:20260422T003025
CREATED:20251208T213021Z
LAST-MODIFIED:20251208T213021Z
UID:10000419-1767312000-1767398399@templehesed.org
SUMMARY:No Services
DESCRIPTION:Happy 2026. Services will resume on 1/7/26.
URL:https://templehesed.org/event/no-services-3/
LOCATION:PA
CATEGORIES:calendar,Services
END:VEVENT
BEGIN:VEVENT
DTSTART;TZID=UTC:20260104T100000
DTEND;TZID=UTC:20260104T113000
DTSTAMP:20260422T003025
CREATED:20251216T161522Z
LAST-MODIFIED:20251216T161522Z
UID:10000426-1767520800-1767526200@templehesed.org
SUMMARY:No Religious School
DESCRIPTION:We will not be holding class for the religious school.
URL:https://templehesed.org/event/no-religious-school/2026-01-04/
LOCATION:PA
CATEGORIES:calendar,Youth Religious School
END:VEVENT
BEGIN:VEVENT
DTSTART;TZID=UTC:20260109T190000
DTEND;TZID=UTC:20260109T203000
DTSTAMP:20260422T003025
CREATED:20250428T182543Z
LAST-MODIFIED:20260216T234500Z
UID:10000171-1767985200-1767990600@templehesed.org
SUMMARY:Services
DESCRIPTION:Shabbat services begin at 7:00 PM (except on the First Friday of every month when services begin at 6:00 PM)
URL:https://templehesed.org/event/services-2/2026-01-09/
LOCATION:Temple Hesed\, 1 Knox Road\, Scranton\, PA\, 18505\, United States
CATEGORIES:calendar,Services
ORGANIZER;CN="Temple Hesed":MAILTO:templehesed@comcast.net
END:VEVENT
BEGIN:VEVENT
DTSTART;TZID=UTC:20260109T190000
DTEND;TZID=UTC:20260109T203000
DTSTAMP:20260422T003025
CREATED:20251208T213110Z
LAST-MODIFIED:20251208T213110Z
UID:10000420-1767985200-1767990600@templehesed.org
SUMMARY:Services
DESCRIPTION:
URL:https://templehesed.org/event/services-4/
LOCATION:Temple Hesed\, 1 Knox Road\, Scranton\, PA\, 18505\, United States
CATEGORIES:calendar,Services
ORGANIZER;CN="Temple Hesed":MAILTO:templehesed@comcast.net
END:VEVENT
BEGIN:VEVENT
DTSTART;TZID=UTC:20260116T190000
DTEND;TZID=UTC:20260116T203000
DTSTAMP:20260422T003025
CREATED:20250428T182543Z
LAST-MODIFIED:20260216T234500Z
UID:10000172-1768590000-1768595400@templehesed.org
SUMMARY:Services
DESCRIPTION:Shabbat services begin at 7:00 PM (except on the First Friday of every month when services begin at 6:00 PM)
URL:https://templehesed.org/event/services-2/2026-01-16/
LOCATION:Temple Hesed\, 1 Knox Road\, Scranton\, PA\, 18505\, United States
CATEGORIES:calendar,Services
ORGANIZER;CN="Temple Hesed":MAILTO:templehesed@comcast.net
END:VEVENT
BEGIN:VEVENT
DTSTART;TZID=UTC:20260116T190000
DTEND;TZID=UTC:20260116T203000
DTSTAMP:20260422T003025
CREATED:20251208T213250Z
LAST-MODIFIED:20251208T213250Z
UID:10000421-1768590000-1768595400@templehesed.org
SUMMARY:Services
DESCRIPTION:
URL:https://templehesed.org/event/services-5/
LOCATION:PA
CATEGORIES:calendar,Services
END:VEVENT
BEGIN:VEVENT
DTSTART;TZID=UTC:20260123T190000
DTEND;TZID=UTC:20260123T203000
DTSTAMP:20260422T003025
CREATED:20250428T182543Z
LAST-MODIFIED:20260216T234500Z
UID:10000173-1769194800-1769200200@templehesed.org
SUMMARY:Services
DESCRIPTION:Shabbat services begin at 7:00 PM (except on the First Friday of every month when services begin at 6:00 PM)
URL:https://templehesed.org/event/services-2/2026-01-23/
LOCATION:Temple Hesed\, 1 Knox Road\, Scranton\, PA\, 18505\, United States
CATEGORIES:calendar,Services
ORGANIZER;CN="Temple Hesed":MAILTO:templehesed@comcast.net
END:VEVENT
BEGIN:VEVENT
DTSTART;TZID=UTC:20260123T190000
DTEND;TZID=UTC:20260123T203000
DTSTAMP:20260422T003025
CREATED:20251208T213332Z
LAST-MODIFIED:20251208T213332Z
UID:10000422-1769194800-1769200200@templehesed.org
SUMMARY:Services
DESCRIPTION:
URL:https://templehesed.org/event/services-6/
LOCATION:Temple Hesed\, 1 Knox Road\, Scranton\, PA\, 18505\, United States
CATEGORIES:calendar,Services
ORGANIZER;CN="Temple Hesed":MAILTO:templehesed@comcast.net
END:VEVENT
BEGIN:VEVENT
DTSTART;TZID=UTC:20260125T100000
DTEND;TZID=UTC:20260125T113000
DTSTAMP:20260422T003025
CREATED:20251216T161522Z
LAST-MODIFIED:20251216T161522Z
UID:10000427-1769335200-1769340600@templehesed.org
SUMMARY:No Religious School
DESCRIPTION:We will not be holding class for the religious school.
URL:https://templehesed.org/event/no-religious-school/2026-01-25/
LOCATION:PA
CATEGORIES:calendar,Youth Religious School
END:VEVENT
BEGIN:VEVENT
DTSTART;TZID=UTC:20260130T190000
DTEND;TZID=UTC:20260130T203000
DTSTAMP:20260422T003025
CREATED:20250428T182543Z
LAST-MODIFIED:20260216T234500Z
UID:10000174-1769799600-1769805000@templehesed.org
SUMMARY:Services
DESCRIPTION:Shabbat services begin at 7:00 PM (except on the First Friday of every month when services begin at 6:00 PM)
URL:https://templehesed.org/event/services-2/2026-01-30/
LOCATION:Temple Hesed\, 1 Knox Road\, Scranton\, PA\, 18505\, United States
CATEGORIES:calendar,Services
ORGANIZER;CN="Temple Hesed":MAILTO:templehesed@comcast.net
END:VEVENT
BEGIN:VEVENT
DTSTART;TZID=UTC:20260130T190000
DTEND;TZID=UTC:20260130T203000
DTSTAMP:20260422T003025
CREATED:20251208T213420Z
LAST-MODIFIED:20251208T213420Z
UID:10000423-1769799600-1769805000@templehesed.org
SUMMARY:Services
DESCRIPTION:
URL:https://templehesed.org/event/services-7/
LOCATION:Temple Hesed\, 1 Knox Road\, Scranton\, PA\, 18505\, United States
CATEGORIES:calendar,Services
ORGANIZER;CN="Temple Hesed":MAILTO:templehesed@comcast.net
END:VEVENT
BEGIN:VEVENT
DTSTART;TZID=UTC:20260201T150000
DTEND;TZID=UTC:20260201T163000
DTSTAMP:20260422T003025
CREATED:20251216T161753Z
LAST-MODIFIED:20260120T011030Z
UID:10000429-1769958000-1769963400@templehesed.org
SUMMARY:Tea For Tu B'Shvat Seder
DESCRIPTION:Celebrate the New Year of the Trees with us! 🌳Temple Hesed and Temple Israel invite you to a warm\, welcoming Tu B’Shvat gathering featuring tea and a selection of fruits\, nuts\, and other symbolic foods for a modified Tu B’Shvat Seder. \nSunday\, February 1 at 3:00 PMFree to attend — please RSVP \nCome connect\, reflect\, and enjoy the sweetness of the season together.
URL:https://templehesed.org/event/tea-tu-bshvat-seder/
LOCATION:Temple Hesed\, 1 Knox Road\, Scranton\, PA\, 18505\, United States
CATEGORIES:calendar,Events,Services,Youth Religious School
ATTACH;FMTTYPE=image/jpeg:https://templehesed.org/wp-content/uploads/2025/12/Lights-and-Latkes-Instagram-Post.jpg
ORGANIZER;CN="Temple Hesed":MAILTO:templehesed@comcast.net
END:VEVENT
BEGIN:VEVENT
DTSTART;TZID=UTC:20260206T180000
DTEND;TZID=UTC:20260206T193000
DTSTAMP:20260422T003025
CREATED:20251208T213525Z
LAST-MODIFIED:20251208T213525Z
UID:10000424-1770400800-1770406200@templehesed.org
SUMMARY:Services
DESCRIPTION:
URL:https://templehesed.org/event/services-8/
LOCATION:Temple Hesed\, 1 Knox Road\, Scranton\, PA\, 18505\, United States
CATEGORIES:calendar,Services
ORGANIZER;CN="Temple Hesed":MAILTO:templehesed@comcast.net
END:VEVENT
BEGIN:VEVENT
DTSTART;TZID=UTC:20260213T190000
DTEND;TZID=UTC:20260213T203000
DTSTAMP:20260422T003025
CREATED:20250428T182543Z
LAST-MODIFIED:20260216T234500Z
UID:10000176-1771009200-1771014600@templehesed.org
SUMMARY:Services
DESCRIPTION:Shabbat services begin at 7:00 PM (except on the First Friday of every month when services begin at 6:00 PM)
URL:https://templehesed.org/event/services-2/2026-02-13/
LOCATION:Temple Hesed\, 1 Knox Road\, Scranton\, PA\, 18505\, United States
CATEGORIES:calendar,Services
ORGANIZER;CN="Temple Hesed":MAILTO:templehesed@comcast.net
END:VEVENT
BEGIN:VEVENT
DTSTART;TZID=UTC:20260220T180000
DTEND;TZID=UTC:20260220T203000
DTSTAMP:20260422T003025
CREATED:20260210T211529Z
LAST-MODIFIED:20260210T211911Z
UID:10000466-1771610400-1771619400@templehesed.org
SUMMARY:3rd Friday Shabbat Dinner & Services | Potluck
DESCRIPTION:Join us for a Shabbat Dinner before Friday Night Services—a chance to slow down\, share a meal\, and connect as a community.Bring a favorite dish\, bring a friend\, or just bring yourself.We’ll eat together\, laugh together\, and then transition into services feeling grounded and connected. \nTHEME: Potluck – please RSVP: https://www.zeffy.com/en-US/ticketing/february-20-2026-shabbat-pot-luck \nPlease indicate what you will be bringing (dish & details)\, how many adults & children will be attending\, and if you are able to help set up &/or clean up.
URL:https://templehesed.org/event/3rd-friday-shabbat-dinner-services-potluck/
LOCATION:Temple Hesed\, 1 Knox Road\, Scranton\, PA\, 18505\, United States
CATEGORIES:calendar,Services
ATTACH;FMTTYPE=image/jpeg:https://templehesed.org/wp-content/uploads/2026/02/ZEFFY-Facebook-Video.jpg
ORGANIZER;CN="Temple Hesed":MAILTO:templehesed@comcast.net
END:VEVENT
END:VCALENDAR