BEGIN:VCALENDAR
VERSION:2.0
PRODID:-//Temple Hesed - ECPv6.15.20//NONSGML v1.0//EN
CALSCALE:GREGORIAN
METHOD:PUBLISH
X-ORIGINAL-URL:https://templehesed.org
X-WR-CALDESC:Events for Temple Hesed
REFRESH-INTERVAL;VALUE=DURATION:PT1H
X-Robots-Tag:noindex
X-PUBLISHED-TTL:PT1H
BEGIN:VTIMEZONE
TZID:UTC
BEGIN:STANDARD
TZOFFSETFROM:+0000
TZOFFSETTO:+0000
TZNAME:UTC
DTSTART:20280101T000000
END:STANDARD
END:VTIMEZONE
BEGIN:VEVENT
DTSTART;TZID=UTC:20290921T190000
DTEND;TZID=UTC:20290921T203000
DTSTAMP:20260423T092826
CREATED:20250428T182543Z
LAST-MODIFIED:20260216T234500Z
UID:10000364-1884711600-1884717000@templehesed.org
SUMMARY:Services
DESCRIPTION:Shabbat services begin at 7:00 PM (except on the First Friday of every month when services begin at 6:00 PM)
URL:https://templehesed.org/event/services-2/2029-09-21/
LOCATION:Temple Hesed\, 1 Knox Road\, Scranton\, PA\, 18505\, United States
CATEGORIES:calendar,Services
ORGANIZER;CN="Temple Hesed":MAILTO:templehesed@comcast.net
END:VEVENT
BEGIN:VEVENT
DTSTART;TZID=UTC:20290928T190000
DTEND;TZID=UTC:20290928T203000
DTSTAMP:20260423T092826
CREATED:20250428T182543Z
LAST-MODIFIED:20260216T234500Z
UID:10000365-1885316400-1885321800@templehesed.org
SUMMARY:Services
DESCRIPTION:Shabbat services begin at 7:00 PM (except on the First Friday of every month when services begin at 6:00 PM)
URL:https://templehesed.org/event/services-2/2029-09-28/
LOCATION:Temple Hesed\, 1 Knox Road\, Scranton\, PA\, 18505\, United States
CATEGORIES:calendar,Services
ORGANIZER;CN="Temple Hesed":MAILTO:templehesed@comcast.net
END:VEVENT
BEGIN:VEVENT
DTSTART;TZID=UTC:20291005T190000
DTEND;TZID=UTC:20291005T203000
DTSTAMP:20260423T092827
CREATED:20250428T182543Z
LAST-MODIFIED:20260216T234500Z
UID:10000366-1885921200-1885926600@templehesed.org
SUMMARY:Services
DESCRIPTION:Shabbat services begin at 7:00 PM (except on the First Friday of every month when services begin at 6:00 PM)
URL:https://templehesed.org/event/services-2/2029-10-05/
LOCATION:Temple Hesed\, 1 Knox Road\, Scranton\, PA\, 18505\, United States
CATEGORIES:calendar,Services
ORGANIZER;CN="Temple Hesed":MAILTO:templehesed@comcast.net
END:VEVENT
BEGIN:VEVENT
DTSTART;TZID=UTC:20291012T190000
DTEND;TZID=UTC:20291012T203000
DTSTAMP:20260423T092827
CREATED:20250428T182543Z
LAST-MODIFIED:20260216T234500Z
UID:10000367-1886526000-1886531400@templehesed.org
SUMMARY:Services
DESCRIPTION:Shabbat services begin at 7:00 PM (except on the First Friday of every month when services begin at 6:00 PM)
URL:https://templehesed.org/event/services-2/2029-10-12/
LOCATION:Temple Hesed\, 1 Knox Road\, Scranton\, PA\, 18505\, United States
CATEGORIES:calendar,Services
ORGANIZER;CN="Temple Hesed":MAILTO:templehesed@comcast.net
END:VEVENT
BEGIN:VEVENT
DTSTART;TZID=UTC:20291019T190000
DTEND;TZID=UTC:20291019T203000
DTSTAMP:20260423T092827
CREATED:20250428T182543Z
LAST-MODIFIED:20260216T234500Z
UID:10000368-1887130800-1887136200@templehesed.org
SUMMARY:Services
DESCRIPTION:Shabbat services begin at 7:00 PM (except on the First Friday of every month when services begin at 6:00 PM)
URL:https://templehesed.org/event/services-2/2029-10-19/
LOCATION:Temple Hesed\, 1 Knox Road\, Scranton\, PA\, 18505\, United States
CATEGORIES:calendar,Services
ORGANIZER;CN="Temple Hesed":MAILTO:templehesed@comcast.net
END:VEVENT
BEGIN:VEVENT
DTSTART;TZID=UTC:20291026T190000
DTEND;TZID=UTC:20291026T203000
DTSTAMP:20260423T092827
CREATED:20250428T182543Z
LAST-MODIFIED:20260216T234500Z
UID:10000369-1887735600-1887741000@templehesed.org
SUMMARY:Services
DESCRIPTION:Shabbat services begin at 7:00 PM (except on the First Friday of every month when services begin at 6:00 PM)
URL:https://templehesed.org/event/services-2/2029-10-26/
LOCATION:Temple Hesed\, 1 Knox Road\, Scranton\, PA\, 18505\, United States
CATEGORIES:calendar,Services
ORGANIZER;CN="Temple Hesed":MAILTO:templehesed@comcast.net
END:VEVENT
BEGIN:VEVENT
DTSTART;TZID=UTC:20291102T190000
DTEND;TZID=UTC:20291102T203000
DTSTAMP:20260423T092827
CREATED:20250428T182543Z
LAST-MODIFIED:20260216T234500Z
UID:10000370-1888340400-1888345800@templehesed.org
SUMMARY:Services
DESCRIPTION:Shabbat services begin at 7:00 PM (except on the First Friday of every month when services begin at 6:00 PM)
URL:https://templehesed.org/event/services-2/2029-11-02/
LOCATION:Temple Hesed\, 1 Knox Road\, Scranton\, PA\, 18505\, United States
CATEGORIES:calendar,Services
ORGANIZER;CN="Temple Hesed":MAILTO:templehesed@comcast.net
END:VEVENT
BEGIN:VEVENT
DTSTART;TZID=UTC:20291109T190000
DTEND;TZID=UTC:20291109T203000
DTSTAMP:20260423T092827
CREATED:20250428T182543Z
LAST-MODIFIED:20260216T234500Z
UID:10000371-1888945200-1888950600@templehesed.org
SUMMARY:Services
DESCRIPTION:Shabbat services begin at 7:00 PM (except on the First Friday of every month when services begin at 6:00 PM)
URL:https://templehesed.org/event/services-2/2029-11-09/
LOCATION:Temple Hesed\, 1 Knox Road\, Scranton\, PA\, 18505\, United States
CATEGORIES:calendar,Services
ORGANIZER;CN="Temple Hesed":MAILTO:templehesed@comcast.net
END:VEVENT
BEGIN:VEVENT
DTSTART;TZID=UTC:20291116T190000
DTEND;TZID=UTC:20291116T203000
DTSTAMP:20260423T092827
CREATED:20250428T182543Z
LAST-MODIFIED:20260216T234500Z
UID:10000372-1889550000-1889555400@templehesed.org
SUMMARY:Services
DESCRIPTION:Shabbat services begin at 7:00 PM (except on the First Friday of every month when services begin at 6:00 PM)
URL:https://templehesed.org/event/services-2/2029-11-16/
LOCATION:Temple Hesed\, 1 Knox Road\, Scranton\, PA\, 18505\, United States
CATEGORIES:calendar,Services
ORGANIZER;CN="Temple Hesed":MAILTO:templehesed@comcast.net
END:VEVENT
BEGIN:VEVENT
DTSTART;TZID=UTC:20291123T190000
DTEND;TZID=UTC:20291123T203000
DTSTAMP:20260423T092827
CREATED:20250428T182543Z
LAST-MODIFIED:20260216T234500Z
UID:10000373-1890154800-1890160200@templehesed.org
SUMMARY:Services
DESCRIPTION:Shabbat services begin at 7:00 PM (except on the First Friday of every month when services begin at 6:00 PM)
URL:https://templehesed.org/event/services-2/2029-11-23/
LOCATION:Temple Hesed\, 1 Knox Road\, Scranton\, PA\, 18505\, United States
CATEGORIES:calendar,Services
ORGANIZER;CN="Temple Hesed":MAILTO:templehesed@comcast.net
END:VEVENT
BEGIN:VEVENT
DTSTART;TZID=UTC:20291130T190000
DTEND;TZID=UTC:20291130T203000
DTSTAMP:20260423T092827
CREATED:20250428T182543Z
LAST-MODIFIED:20260216T234500Z
UID:10000374-1890759600-1890765000@templehesed.org
SUMMARY:Services
DESCRIPTION:Shabbat services begin at 7:00 PM (except on the First Friday of every month when services begin at 6:00 PM)
URL:https://templehesed.org/event/services-2/2029-11-30/
LOCATION:Temple Hesed\, 1 Knox Road\, Scranton\, PA\, 18505\, United States
CATEGORIES:calendar,Services
ORGANIZER;CN="Temple Hesed":MAILTO:templehesed@comcast.net
END:VEVENT
BEGIN:VEVENT
DTSTART;TZID=UTC:20291207T190000
DTEND;TZID=UTC:20291207T203000
DTSTAMP:20260423T092827
CREATED:20250428T182543Z
LAST-MODIFIED:20260216T234500Z
UID:10000375-1891364400-1891369800@templehesed.org
SUMMARY:Services
DESCRIPTION:Shabbat services begin at 7:00 PM (except on the First Friday of every month when services begin at 6:00 PM)
URL:https://templehesed.org/event/services-2/2029-12-07/
LOCATION:Temple Hesed\, 1 Knox Road\, Scranton\, PA\, 18505\, United States
CATEGORIES:calendar,Services
ORGANIZER;CN="Temple Hesed":MAILTO:templehesed@comcast.net
END:VEVENT
BEGIN:VEVENT
DTSTART;TZID=UTC:20291214T190000
DTEND;TZID=UTC:20291214T203000
DTSTAMP:20260423T092827
CREATED:20250428T182543Z
LAST-MODIFIED:20260216T234500Z
UID:10000376-1891969200-1891974600@templehesed.org
SUMMARY:Services
DESCRIPTION:Shabbat services begin at 7:00 PM (except on the First Friday of every month when services begin at 6:00 PM)
URL:https://templehesed.org/event/services-2/2029-12-14/
LOCATION:Temple Hesed\, 1 Knox Road\, Scranton\, PA\, 18505\, United States
CATEGORIES:calendar,Services
ORGANIZER;CN="Temple Hesed":MAILTO:templehesed@comcast.net
END:VEVENT
BEGIN:VEVENT
DTSTART;TZID=UTC:20291221T190000
DTEND;TZID=UTC:20291221T203000
DTSTAMP:20260423T092827
CREATED:20250428T182543Z
LAST-MODIFIED:20260216T234500Z
UID:10000377-1892574000-1892579400@templehesed.org
SUMMARY:Services
DESCRIPTION:Shabbat services begin at 7:00 PM (except on the First Friday of every month when services begin at 6:00 PM)
URL:https://templehesed.org/event/services-2/2029-12-21/
LOCATION:Temple Hesed\, 1 Knox Road\, Scranton\, PA\, 18505\, United States
CATEGORIES:calendar,Services
ORGANIZER;CN="Temple Hesed":MAILTO:templehesed@comcast.net
END:VEVENT
BEGIN:VEVENT
DTSTART;TZID=UTC:20291228T190000
DTEND;TZID=UTC:20291228T203000
DTSTAMP:20260423T092827
CREATED:20250428T182543Z
LAST-MODIFIED:20260216T234500Z
UID:10000378-1893178800-1893184200@templehesed.org
SUMMARY:Services
DESCRIPTION:Shabbat services begin at 7:00 PM (except on the First Friday of every month when services begin at 6:00 PM)
URL:https://templehesed.org/event/services-2/2029-12-28/
LOCATION:Temple Hesed\, 1 Knox Road\, Scranton\, PA\, 18505\, United States
CATEGORIES:calendar,Services
ORGANIZER;CN="Temple Hesed":MAILTO:templehesed@comcast.net
END:VEVENT
BEGIN:VEVENT
DTSTART;TZID=UTC:20300104T190000
DTEND;TZID=UTC:20300104T203000
DTSTAMP:20260423T092827
CREATED:20250428T182543Z
LAST-MODIFIED:20260216T234500Z
UID:10000379-1893783600-1893789000@templehesed.org
SUMMARY:Services
DESCRIPTION:Shabbat services begin at 7:00 PM (except on the First Friday of every month when services begin at 6:00 PM)
URL:https://templehesed.org/event/services-2/2030-01-04/
LOCATION:Temple Hesed\, 1 Knox Road\, Scranton\, PA\, 18505\, United States
CATEGORIES:calendar,Services
ORGANIZER;CN="Temple Hesed":MAILTO:templehesed@comcast.net
END:VEVENT
BEGIN:VEVENT
DTSTART;TZID=UTC:20300111T190000
DTEND;TZID=UTC:20300111T203000
DTSTAMP:20260423T092827
CREATED:20250428T182543Z
LAST-MODIFIED:20260216T234500Z
UID:10000380-1894388400-1894393800@templehesed.org
SUMMARY:Services
DESCRIPTION:Shabbat services begin at 7:00 PM (except on the First Friday of every month when services begin at 6:00 PM)
URL:https://templehesed.org/event/services-2/2030-01-11/
LOCATION:Temple Hesed\, 1 Knox Road\, Scranton\, PA\, 18505\, United States
CATEGORIES:calendar,Services
ORGANIZER;CN="Temple Hesed":MAILTO:templehesed@comcast.net
END:VEVENT
BEGIN:VEVENT
DTSTART;TZID=UTC:20300118T190000
DTEND;TZID=UTC:20300118T203000
DTSTAMP:20260423T092827
CREATED:20250428T182543Z
LAST-MODIFIED:20260216T234500Z
UID:10000381-1894993200-1894998600@templehesed.org
SUMMARY:Services
DESCRIPTION:Shabbat services begin at 7:00 PM (except on the First Friday of every month when services begin at 6:00 PM)
URL:https://templehesed.org/event/services-2/2030-01-18/
LOCATION:Temple Hesed\, 1 Knox Road\, Scranton\, PA\, 18505\, United States
CATEGORIES:calendar,Services
ORGANIZER;CN="Temple Hesed":MAILTO:templehesed@comcast.net
END:VEVENT
BEGIN:VEVENT
DTSTART;TZID=UTC:20300125T190000
DTEND;TZID=UTC:20300125T203000
DTSTAMP:20260423T092827
CREATED:20250428T182543Z
LAST-MODIFIED:20260216T234500Z
UID:10000382-1895598000-1895603400@templehesed.org
SUMMARY:Services
DESCRIPTION:Shabbat services begin at 7:00 PM (except on the First Friday of every month when services begin at 6:00 PM)
URL:https://templehesed.org/event/services-2/2030-01-25/
LOCATION:Temple Hesed\, 1 Knox Road\, Scranton\, PA\, 18505\, United States
CATEGORIES:calendar,Services
ORGANIZER;CN="Temple Hesed":MAILTO:templehesed@comcast.net
END:VEVENT
BEGIN:VEVENT
DTSTART;TZID=UTC:20300201T190000
DTEND;TZID=UTC:20300201T203000
DTSTAMP:20260423T092827
CREATED:20250428T182543Z
LAST-MODIFIED:20260216T234500Z
UID:10000383-1896202800-1896208200@templehesed.org
SUMMARY:Services
DESCRIPTION:Shabbat services begin at 7:00 PM (except on the First Friday of every month when services begin at 6:00 PM)
URL:https://templehesed.org/event/services-2/2030-02-01/
LOCATION:Temple Hesed\, 1 Knox Road\, Scranton\, PA\, 18505\, United States
CATEGORIES:calendar,Services
ORGANIZER;CN="Temple Hesed":MAILTO:templehesed@comcast.net
END:VEVENT
BEGIN:VEVENT
DTSTART;TZID=UTC:20300208T190000
DTEND;TZID=UTC:20300208T203000
DTSTAMP:20260423T092827
CREATED:20250428T182543Z
LAST-MODIFIED:20260216T234500Z
UID:10000384-1896807600-1896813000@templehesed.org
SUMMARY:Services
DESCRIPTION:Shabbat services begin at 7:00 PM (except on the First Friday of every month when services begin at 6:00 PM)
URL:https://templehesed.org/event/services-2/2030-02-08/
LOCATION:Temple Hesed\, 1 Knox Road\, Scranton\, PA\, 18505\, United States
CATEGORIES:calendar,Services
ORGANIZER;CN="Temple Hesed":MAILTO:templehesed@comcast.net
END:VEVENT
BEGIN:VEVENT
DTSTART;TZID=UTC:20300215T190000
DTEND;TZID=UTC:20300215T203000
DTSTAMP:20260423T092827
CREATED:20250428T182543Z
LAST-MODIFIED:20260216T234500Z
UID:10000385-1897412400-1897417800@templehesed.org
SUMMARY:Services
DESCRIPTION:Shabbat services begin at 7:00 PM (except on the First Friday of every month when services begin at 6:00 PM)
URL:https://templehesed.org/event/services-2/2030-02-15/
LOCATION:Temple Hesed\, 1 Knox Road\, Scranton\, PA\, 18505\, United States
CATEGORIES:calendar,Services
ORGANIZER;CN="Temple Hesed":MAILTO:templehesed@comcast.net
END:VEVENT
BEGIN:VEVENT
DTSTART;TZID=UTC:20300222T190000
DTEND;TZID=UTC:20300222T203000
DTSTAMP:20260423T092827
CREATED:20250428T182543Z
LAST-MODIFIED:20260216T234500Z
UID:10000386-1898017200-1898022600@templehesed.org
SUMMARY:Services
DESCRIPTION:Shabbat services begin at 7:00 PM (except on the First Friday of every month when services begin at 6:00 PM)
URL:https://templehesed.org/event/services-2/2030-02-22/
LOCATION:Temple Hesed\, 1 Knox Road\, Scranton\, PA\, 18505\, United States
CATEGORIES:calendar,Services
ORGANIZER;CN="Temple Hesed":MAILTO:templehesed@comcast.net
END:VEVENT
BEGIN:VEVENT
DTSTART;TZID=UTC:20300301T190000
DTEND;TZID=UTC:20300301T203000
DTSTAMP:20260423T092827
CREATED:20250428T182543Z
LAST-MODIFIED:20260216T234500Z
UID:10000387-1898622000-1898627400@templehesed.org
SUMMARY:Services
DESCRIPTION:Shabbat services begin at 7:00 PM (except on the First Friday of every month when services begin at 6:00 PM)
URL:https://templehesed.org/event/services-2/2030-03-01/
LOCATION:Temple Hesed\, 1 Knox Road\, Scranton\, PA\, 18505\, United States
CATEGORIES:calendar,Services
ORGANIZER;CN="Temple Hesed":MAILTO:templehesed@comcast.net
END:VEVENT
BEGIN:VEVENT
DTSTART;TZID=UTC:20300308T190000
DTEND;TZID=UTC:20300308T203000
DTSTAMP:20260423T092827
CREATED:20250428T182543Z
LAST-MODIFIED:20260216T234500Z
UID:10000388-1899226800-1899232200@templehesed.org
SUMMARY:Services
DESCRIPTION:Shabbat services begin at 7:00 PM (except on the First Friday of every month when services begin at 6:00 PM)
URL:https://templehesed.org/event/services-2/2030-03-08/
LOCATION:Temple Hesed\, 1 Knox Road\, Scranton\, PA\, 18505\, United States
CATEGORIES:calendar,Services
ORGANIZER;CN="Temple Hesed":MAILTO:templehesed@comcast.net
END:VEVENT
BEGIN:VEVENT
DTSTART;TZID=UTC:20300315T190000
DTEND;TZID=UTC:20300315T203000
DTSTAMP:20260423T092827
CREATED:20250428T182543Z
LAST-MODIFIED:20260216T234500Z
UID:10000389-1899831600-1899837000@templehesed.org
SUMMARY:Services
DESCRIPTION:Shabbat services begin at 7:00 PM (except on the First Friday of every month when services begin at 6:00 PM)
URL:https://templehesed.org/event/services-2/2030-03-15/
LOCATION:Temple Hesed\, 1 Knox Road\, Scranton\, PA\, 18505\, United States
CATEGORIES:calendar,Services
ORGANIZER;CN="Temple Hesed":MAILTO:templehesed@comcast.net
END:VEVENT
BEGIN:VEVENT
DTSTART;TZID=UTC:20300319T183000
DTEND;TZID=UTC:20300319T183000
DTSTAMP:20260423T092827
CREATED:20241108T184418Z
LAST-MODIFIED:20250527T202501Z
UID:10000055-1900175400-1900175400@templehesed.org
SUMMARY:Purim
DESCRIPTION:
URL:https://templehesed.org/event/purim-6/
LOCATION:PA
CATEGORIES:calendar,Holidays
END:VEVENT
BEGIN:VEVENT
DTSTART;TZID=UTC:20300322T190000
DTEND;TZID=UTC:20300322T203000
DTSTAMP:20260423T092827
CREATED:20250428T182543Z
LAST-MODIFIED:20260216T234500Z
UID:10000390-1900436400-1900441800@templehesed.org
SUMMARY:Services
DESCRIPTION:Shabbat services begin at 7:00 PM (except on the First Friday of every month when services begin at 6:00 PM)
URL:https://templehesed.org/event/services-2/2030-03-22/
LOCATION:Temple Hesed\, 1 Knox Road\, Scranton\, PA\, 18505\, United States
CATEGORIES:calendar,Services
ORGANIZER;CN="Temple Hesed":MAILTO:templehesed@comcast.net
END:VEVENT
BEGIN:VEVENT
DTSTART;TZID=UTC:20300329T190000
DTEND;TZID=UTC:20300329T203000
DTSTAMP:20260423T092827
CREATED:20250428T182543Z
LAST-MODIFIED:20260216T234500Z
UID:10000391-1901041200-1901046600@templehesed.org
SUMMARY:Services
DESCRIPTION:Shabbat services begin at 7:00 PM (except on the First Friday of every month when services begin at 6:00 PM)
URL:https://templehesed.org/event/services-2/2030-03-29/
LOCATION:Temple Hesed\, 1 Knox Road\, Scranton\, PA\, 18505\, United States
CATEGORIES:calendar,Services
ORGANIZER;CN="Temple Hesed":MAILTO:templehesed@comcast.net
END:VEVENT
BEGIN:VEVENT
DTSTART;TZID=UTC:20300405T190000
DTEND;TZID=UTC:20300405T203000
DTSTAMP:20260423T092827
CREATED:20250428T182543Z
LAST-MODIFIED:20260216T234500Z
UID:10000392-1901646000-1901651400@templehesed.org
SUMMARY:Services
DESCRIPTION:Shabbat services begin at 7:00 PM (except on the First Friday of every month when services begin at 6:00 PM)
URL:https://templehesed.org/event/services-2/2030-04-05/
LOCATION:Temple Hesed\, 1 Knox Road\, Scranton\, PA\, 18505\, United States
CATEGORIES:calendar,Services
ORGANIZER;CN="Temple Hesed":MAILTO:templehesed@comcast.net
END:VEVENT
END:VCALENDAR