BEGIN:VCALENDAR
VERSION:2.0
PRODID:-//Temple Hesed - ECPv6.15.20//NONSGML v1.0//EN
CALSCALE:GREGORIAN
METHOD:PUBLISH
X-ORIGINAL-URL:https://templehesed.org
X-WR-CALDESC:Events for Temple Hesed
REFRESH-INTERVAL;VALUE=DURATION:PT1H
X-Robots-Tag:noindex
X-PUBLISHED-TTL:PT1H
BEGIN:VTIMEZONE
TZID:UTC
BEGIN:STANDARD
TZOFFSETFROM:+0000
TZOFFSETTO:+0000
TZNAME:UTC
DTSTART:20290101T000000
END:STANDARD
END:VTIMEZONE
BEGIN:VEVENT
DTSTART;TZID=UTC:20300809T190000
DTEND;TZID=UTC:20300809T203000
DTSTAMP:20260422T225219
CREATED:20250428T182543Z
LAST-MODIFIED:20260216T234500Z
UID:10000446-1912532400-1912537800@templehesed.org
SUMMARY:Services
DESCRIPTION:Shabbat services begin at 7:00 PM (except on the First Friday of every month when services begin at 6:00 PM)
URL:https://templehesed.org/event/services-2/2030-08-09/
LOCATION:Temple Hesed\, 1 Knox Road\, Scranton\, PA\, 18505\, United States
CATEGORIES:calendar,Services
ORGANIZER;CN="Temple Hesed":MAILTO:templehesed@comcast.net
END:VEVENT
BEGIN:VEVENT
DTSTART;TZID=UTC:20300816T190000
DTEND;TZID=UTC:20300816T203000
DTSTAMP:20260422T225219
CREATED:20250428T182543Z
LAST-MODIFIED:20260216T234500Z
UID:10000447-1913137200-1913142600@templehesed.org
SUMMARY:Services
DESCRIPTION:Shabbat services begin at 7:00 PM (except on the First Friday of every month when services begin at 6:00 PM)
URL:https://templehesed.org/event/services-2/2030-08-16/
LOCATION:Temple Hesed\, 1 Knox Road\, Scranton\, PA\, 18505\, United States
CATEGORIES:calendar,Services
ORGANIZER;CN="Temple Hesed":MAILTO:templehesed@comcast.net
END:VEVENT
BEGIN:VEVENT
DTSTART;TZID=UTC:20300823T190000
DTEND;TZID=UTC:20300823T203000
DTSTAMP:20260422T225219
CREATED:20250428T182543Z
LAST-MODIFIED:20260216T234500Z
UID:10000448-1913742000-1913747400@templehesed.org
SUMMARY:Services
DESCRIPTION:Shabbat services begin at 7:00 PM (except on the First Friday of every month when services begin at 6:00 PM)
URL:https://templehesed.org/event/services-2/2030-08-23/
LOCATION:Temple Hesed\, 1 Knox Road\, Scranton\, PA\, 18505\, United States
CATEGORIES:calendar,Services
ORGANIZER;CN="Temple Hesed":MAILTO:templehesed@comcast.net
END:VEVENT
BEGIN:VEVENT
DTSTART;TZID=UTC:20300830T190000
DTEND;TZID=UTC:20300830T203000
DTSTAMP:20260422T225219
CREATED:20250428T182543Z
LAST-MODIFIED:20260216T234500Z
UID:10000449-1914346800-1914352200@templehesed.org
SUMMARY:Services
DESCRIPTION:Shabbat services begin at 7:00 PM (except on the First Friday of every month when services begin at 6:00 PM)
URL:https://templehesed.org/event/services-2/2030-08-30/
LOCATION:Temple Hesed\, 1 Knox Road\, Scranton\, PA\, 18505\, United States
CATEGORIES:calendar,Services
ORGANIZER;CN="Temple Hesed":MAILTO:templehesed@comcast.net
END:VEVENT
BEGIN:VEVENT
DTSTART;TZID=UTC:20300906T190000
DTEND;TZID=UTC:20300906T203000
DTSTAMP:20260422T225219
CREATED:20250428T182543Z
LAST-MODIFIED:20260216T234500Z
UID:10000450-1914951600-1914957000@templehesed.org
SUMMARY:Services
DESCRIPTION:Shabbat services begin at 7:00 PM (except on the First Friday of every month when services begin at 6:00 PM)
URL:https://templehesed.org/event/services-2/2030-09-06/
LOCATION:Temple Hesed\, 1 Knox Road\, Scranton\, PA\, 18505\, United States
CATEGORIES:calendar,Services
ORGANIZER;CN="Temple Hesed":MAILTO:templehesed@comcast.net
END:VEVENT
BEGIN:VEVENT
DTSTART;TZID=UTC:20300913T190000
DTEND;TZID=UTC:20300913T203000
DTSTAMP:20260422T225219
CREATED:20250428T182543Z
LAST-MODIFIED:20260216T234500Z
UID:10000451-1915556400-1915561800@templehesed.org
SUMMARY:Services
DESCRIPTION:Shabbat services begin at 7:00 PM (except on the First Friday of every month when services begin at 6:00 PM)
URL:https://templehesed.org/event/services-2/2030-09-13/
LOCATION:Temple Hesed\, 1 Knox Road\, Scranton\, PA\, 18505\, United States
CATEGORIES:calendar,Services
ORGANIZER;CN="Temple Hesed":MAILTO:templehesed@comcast.net
END:VEVENT
BEGIN:VEVENT
DTSTART;TZID=UTC:20300920T190000
DTEND;TZID=UTC:20300920T203000
DTSTAMP:20260422T225219
CREATED:20250428T182543Z
LAST-MODIFIED:20260216T234500Z
UID:10000452-1916161200-1916166600@templehesed.org
SUMMARY:Services
DESCRIPTION:Shabbat services begin at 7:00 PM (except on the First Friday of every month when services begin at 6:00 PM)
URL:https://templehesed.org/event/services-2/2030-09-20/
LOCATION:Temple Hesed\, 1 Knox Road\, Scranton\, PA\, 18505\, United States
CATEGORIES:calendar,Services
ORGANIZER;CN="Temple Hesed":MAILTO:templehesed@comcast.net
END:VEVENT
BEGIN:VEVENT
DTSTART;TZID=UTC:20300927T190000
DTEND;TZID=UTC:20300927T203000
DTSTAMP:20260422T225219
CREATED:20250428T182543Z
LAST-MODIFIED:20260216T234500Z
UID:10000453-1916766000-1916771400@templehesed.org
SUMMARY:Services
DESCRIPTION:Shabbat services begin at 7:00 PM (except on the First Friday of every month when services begin at 6:00 PM)
URL:https://templehesed.org/event/services-2/2030-09-27/
LOCATION:Temple Hesed\, 1 Knox Road\, Scranton\, PA\, 18505\, United States
CATEGORIES:calendar,Services
ORGANIZER;CN="Temple Hesed":MAILTO:templehesed@comcast.net
END:VEVENT
BEGIN:VEVENT
DTSTART;TZID=UTC:20301004T190000
DTEND;TZID=UTC:20301004T203000
DTSTAMP:20260422T225219
CREATED:20250428T182543Z
LAST-MODIFIED:20260216T234500Z
UID:10000454-1917370800-1917376200@templehesed.org
SUMMARY:Services
DESCRIPTION:Shabbat services begin at 7:00 PM (except on the First Friday of every month when services begin at 6:00 PM)
URL:https://templehesed.org/event/services-2/2030-10-04/
LOCATION:Temple Hesed\, 1 Knox Road\, Scranton\, PA\, 18505\, United States
CATEGORIES:calendar,Services
ORGANIZER;CN="Temple Hesed":MAILTO:templehesed@comcast.net
END:VEVENT
BEGIN:VEVENT
DTSTART;TZID=UTC:20301011T190000
DTEND;TZID=UTC:20301011T203000
DTSTAMP:20260422T225219
CREATED:20250428T182543Z
LAST-MODIFIED:20260216T234500Z
UID:10000455-1917975600-1917981000@templehesed.org
SUMMARY:Services
DESCRIPTION:Shabbat services begin at 7:00 PM (except on the First Friday of every month when services begin at 6:00 PM)
URL:https://templehesed.org/event/services-2/2030-10-11/
LOCATION:Temple Hesed\, 1 Knox Road\, Scranton\, PA\, 18505\, United States
CATEGORIES:calendar,Services
ORGANIZER;CN="Temple Hesed":MAILTO:templehesed@comcast.net
END:VEVENT
BEGIN:VEVENT
DTSTART;TZID=UTC:20301018T190000
DTEND;TZID=UTC:20301018T203000
DTSTAMP:20260422T225219
CREATED:20250428T182543Z
LAST-MODIFIED:20260216T234500Z
UID:10000456-1918580400-1918585800@templehesed.org
SUMMARY:Services
DESCRIPTION:Shabbat services begin at 7:00 PM (except on the First Friday of every month when services begin at 6:00 PM)
URL:https://templehesed.org/event/services-2/2030-10-18/
LOCATION:Temple Hesed\, 1 Knox Road\, Scranton\, PA\, 18505\, United States
CATEGORIES:calendar,Services
ORGANIZER;CN="Temple Hesed":MAILTO:templehesed@comcast.net
END:VEVENT
BEGIN:VEVENT
DTSTART;TZID=UTC:20301025T190000
DTEND;TZID=UTC:20301025T203000
DTSTAMP:20260422T225219
CREATED:20250428T182543Z
LAST-MODIFIED:20260216T234500Z
UID:10000457-1919185200-1919190600@templehesed.org
SUMMARY:Services
DESCRIPTION:Shabbat services begin at 7:00 PM (except on the First Friday of every month when services begin at 6:00 PM)
URL:https://templehesed.org/event/services-2/2030-10-25/
LOCATION:Temple Hesed\, 1 Knox Road\, Scranton\, PA\, 18505\, United States
CATEGORIES:calendar,Services
ORGANIZER;CN="Temple Hesed":MAILTO:templehesed@comcast.net
END:VEVENT
BEGIN:VEVENT
DTSTART;TZID=UTC:20301101T190000
DTEND;TZID=UTC:20301101T203000
DTSTAMP:20260422T225219
CREATED:20250428T182543Z
LAST-MODIFIED:20260216T234500Z
UID:10000458-1919790000-1919795400@templehesed.org
SUMMARY:Services
DESCRIPTION:Shabbat services begin at 7:00 PM (except on the First Friday of every month when services begin at 6:00 PM)
URL:https://templehesed.org/event/services-2/2030-11-01/
LOCATION:Temple Hesed\, 1 Knox Road\, Scranton\, PA\, 18505\, United States
CATEGORIES:calendar,Services
ORGANIZER;CN="Temple Hesed":MAILTO:templehesed@comcast.net
END:VEVENT
BEGIN:VEVENT
DTSTART;TZID=UTC:20301108T190000
DTEND;TZID=UTC:20301108T203000
DTSTAMP:20260422T225219
CREATED:20250428T182543Z
LAST-MODIFIED:20260216T234500Z
UID:10000459-1920394800-1920400200@templehesed.org
SUMMARY:Services
DESCRIPTION:Shabbat services begin at 7:00 PM (except on the First Friday of every month when services begin at 6:00 PM)
URL:https://templehesed.org/event/services-2/2030-11-08/
LOCATION:Temple Hesed\, 1 Knox Road\, Scranton\, PA\, 18505\, United States
CATEGORIES:calendar,Services
ORGANIZER;CN="Temple Hesed":MAILTO:templehesed@comcast.net
END:VEVENT
BEGIN:VEVENT
DTSTART;TZID=UTC:20301115T190000
DTEND;TZID=UTC:20301115T203000
DTSTAMP:20260422T225219
CREATED:20250428T182543Z
LAST-MODIFIED:20260216T234500Z
UID:10000460-1920999600-1921005000@templehesed.org
SUMMARY:Services
DESCRIPTION:Shabbat services begin at 7:00 PM (except on the First Friday of every month when services begin at 6:00 PM)
URL:https://templehesed.org/event/services-2/2030-11-15/
LOCATION:Temple Hesed\, 1 Knox Road\, Scranton\, PA\, 18505\, United States
CATEGORIES:calendar,Services
ORGANIZER;CN="Temple Hesed":MAILTO:templehesed@comcast.net
END:VEVENT
BEGIN:VEVENT
DTSTART;TZID=UTC:20301122T190000
DTEND;TZID=UTC:20301122T203000
DTSTAMP:20260422T225219
CREATED:20250428T182543Z
LAST-MODIFIED:20260216T234500Z
UID:10000461-1921604400-1921609800@templehesed.org
SUMMARY:Services
DESCRIPTION:Shabbat services begin at 7:00 PM (except on the First Friday of every month when services begin at 6:00 PM)
URL:https://templehesed.org/event/services-2/2030-11-22/
LOCATION:Temple Hesed\, 1 Knox Road\, Scranton\, PA\, 18505\, United States
CATEGORIES:calendar,Services
ORGANIZER;CN="Temple Hesed":MAILTO:templehesed@comcast.net
END:VEVENT
BEGIN:VEVENT
DTSTART;TZID=UTC:20301129T190000
DTEND;TZID=UTC:20301129T203000
DTSTAMP:20260422T225219
CREATED:20250428T182543Z
LAST-MODIFIED:20260216T234500Z
UID:10000462-1922209200-1922214600@templehesed.org
SUMMARY:Services
DESCRIPTION:Shabbat services begin at 7:00 PM (except on the First Friday of every month when services begin at 6:00 PM)
URL:https://templehesed.org/event/services-2/2030-11-29/
LOCATION:Temple Hesed\, 1 Knox Road\, Scranton\, PA\, 18505\, United States
CATEGORIES:calendar,Services
ORGANIZER;CN="Temple Hesed":MAILTO:templehesed@comcast.net
END:VEVENT
BEGIN:VEVENT
DTSTART;TZID=UTC:20301206T190000
DTEND;TZID=UTC:20301206T203000
DTSTAMP:20260422T225219
CREATED:20250428T182543Z
LAST-MODIFIED:20260216T234500Z
UID:10000463-1922814000-1922819400@templehesed.org
SUMMARY:Services
DESCRIPTION:Shabbat services begin at 7:00 PM (except on the First Friday of every month when services begin at 6:00 PM)
URL:https://templehesed.org/event/services-2/2030-12-06/
LOCATION:Temple Hesed\, 1 Knox Road\, Scranton\, PA\, 18505\, United States
CATEGORIES:calendar,Services
ORGANIZER;CN="Temple Hesed":MAILTO:templehesed@comcast.net
END:VEVENT
BEGIN:VEVENT
DTSTART;TZID=UTC:20301213T190000
DTEND;TZID=UTC:20301213T203000
DTSTAMP:20260422T225219
CREATED:20250428T182543Z
LAST-MODIFIED:20260216T234500Z
UID:10000464-1923418800-1923424200@templehesed.org
SUMMARY:Services
DESCRIPTION:Shabbat services begin at 7:00 PM (except on the First Friday of every month when services begin at 6:00 PM)
URL:https://templehesed.org/event/services-2/2030-12-13/
LOCATION:Temple Hesed\, 1 Knox Road\, Scranton\, PA\, 18505\, United States
CATEGORIES:calendar,Services
ORGANIZER;CN="Temple Hesed":MAILTO:templehesed@comcast.net
END:VEVENT
BEGIN:VEVENT
DTSTART;TZID=UTC:20301220T190000
DTEND;TZID=UTC:20301220T203000
DTSTAMP:20260422T225219
CREATED:20250428T182543Z
LAST-MODIFIED:20260216T234500Z
UID:10000467-1924023600-1924029000@templehesed.org
SUMMARY:Services
DESCRIPTION:Shabbat services begin at 7:00 PM (except on the First Friday of every month when services begin at 6:00 PM)
URL:https://templehesed.org/event/services-2/2030-12-20/
LOCATION:Temple Hesed\, 1 Knox Road\, Scranton\, PA\, 18505\, United States
CATEGORIES:calendar,Services
ORGANIZER;CN="Temple Hesed":MAILTO:templehesed@comcast.net
END:VEVENT
BEGIN:VEVENT
DTSTART;TZID=UTC:20301227T190000
DTEND;TZID=UTC:20301227T203000
DTSTAMP:20260422T225219
CREATED:20250428T182543Z
LAST-MODIFIED:20260216T234500Z
UID:10000468-1924628400-1924633800@templehesed.org
SUMMARY:Services
DESCRIPTION:Shabbat services begin at 7:00 PM (except on the First Friday of every month when services begin at 6:00 PM)
URL:https://templehesed.org/event/services-2/2030-12-27/
LOCATION:Temple Hesed\, 1 Knox Road\, Scranton\, PA\, 18505\, United States
CATEGORIES:calendar,Services
ORGANIZER;CN="Temple Hesed":MAILTO:templehesed@comcast.net
END:VEVENT
BEGIN:VEVENT
DTSTART;TZID=UTC:20310103T190000
DTEND;TZID=UTC:20310103T203000
DTSTAMP:20260422T225219
CREATED:20250428T182543Z
LAST-MODIFIED:20260216T234500Z
UID:10000469-1925233200-1925238600@templehesed.org
SUMMARY:Services
DESCRIPTION:Shabbat services begin at 7:00 PM (except on the First Friday of every month when services begin at 6:00 PM)
URL:https://templehesed.org/event/services-2/2031-01-03/
LOCATION:Temple Hesed\, 1 Knox Road\, Scranton\, PA\, 18505\, United States
CATEGORIES:calendar,Services
ORGANIZER;CN="Temple Hesed":MAILTO:templehesed@comcast.net
END:VEVENT
BEGIN:VEVENT
DTSTART;TZID=UTC:20310110T190000
DTEND;TZID=UTC:20310110T203000
DTSTAMP:20260422T225219
CREATED:20250428T182543Z
LAST-MODIFIED:20260216T234500Z
UID:10000470-1925838000-1925843400@templehesed.org
SUMMARY:Services
DESCRIPTION:Shabbat services begin at 7:00 PM (except on the First Friday of every month when services begin at 6:00 PM)
URL:https://templehesed.org/event/services-2/2031-01-10/
LOCATION:Temple Hesed\, 1 Knox Road\, Scranton\, PA\, 18505\, United States
CATEGORIES:calendar,Services
ORGANIZER;CN="Temple Hesed":MAILTO:templehesed@comcast.net
END:VEVENT
BEGIN:VEVENT
DTSTART;TZID=UTC:20310117T190000
DTEND;TZID=UTC:20310117T203000
DTSTAMP:20260422T225219
CREATED:20250428T182543Z
LAST-MODIFIED:20260216T234500Z
UID:10000471-1926442800-1926448200@templehesed.org
SUMMARY:Services
DESCRIPTION:Shabbat services begin at 7:00 PM (except on the First Friday of every month when services begin at 6:00 PM)
URL:https://templehesed.org/event/services-2/2031-01-17/
LOCATION:Temple Hesed\, 1 Knox Road\, Scranton\, PA\, 18505\, United States
CATEGORIES:calendar,Services
ORGANIZER;CN="Temple Hesed":MAILTO:templehesed@comcast.net
END:VEVENT
BEGIN:VEVENT
DTSTART;TZID=UTC:20310124T190000
DTEND;TZID=UTC:20310124T203000
DTSTAMP:20260422T225219
CREATED:20250428T182543Z
LAST-MODIFIED:20260216T234500Z
UID:10000472-1927047600-1927053000@templehesed.org
SUMMARY:Services
DESCRIPTION:Shabbat services begin at 7:00 PM (except on the First Friday of every month when services begin at 6:00 PM)
URL:https://templehesed.org/event/services-2/2031-01-24/
LOCATION:Temple Hesed\, 1 Knox Road\, Scranton\, PA\, 18505\, United States
CATEGORIES:calendar,Services
ORGANIZER;CN="Temple Hesed":MAILTO:templehesed@comcast.net
END:VEVENT
BEGIN:VEVENT
DTSTART;TZID=UTC:20310131T190000
DTEND;TZID=UTC:20310131T203000
DTSTAMP:20260422T225219
CREATED:20250428T182543Z
LAST-MODIFIED:20260216T234500Z
UID:10000473-1927652400-1927657800@templehesed.org
SUMMARY:Services
DESCRIPTION:Shabbat services begin at 7:00 PM (except on the First Friday of every month when services begin at 6:00 PM)
URL:https://templehesed.org/event/services-2/2031-01-31/
LOCATION:Temple Hesed\, 1 Knox Road\, Scranton\, PA\, 18505\, United States
CATEGORIES:calendar,Services
ORGANIZER;CN="Temple Hesed":MAILTO:templehesed@comcast.net
END:VEVENT
BEGIN:VEVENT
DTSTART;TZID=UTC:20310207T190000
DTEND;TZID=UTC:20310207T203000
DTSTAMP:20260422T225219
CREATED:20250428T182543Z
LAST-MODIFIED:20260216T234500Z
UID:10000474-1928257200-1928262600@templehesed.org
SUMMARY:Services
DESCRIPTION:Shabbat services begin at 7:00 PM (except on the First Friday of every month when services begin at 6:00 PM)
URL:https://templehesed.org/event/services-2/2031-02-07/
LOCATION:Temple Hesed\, 1 Knox Road\, Scranton\, PA\, 18505\, United States
CATEGORIES:calendar,Services
ORGANIZER;CN="Temple Hesed":MAILTO:templehesed@comcast.net
END:VEVENT
BEGIN:VEVENT
DTSTART;TZID=UTC:20310214T190000
DTEND;TZID=UTC:20310214T203000
DTSTAMP:20260422T225219
CREATED:20250428T182543Z
LAST-MODIFIED:20260216T234500Z
UID:10000475-1928862000-1928867400@templehesed.org
SUMMARY:Services
DESCRIPTION:Shabbat services begin at 7:00 PM (except on the First Friday of every month when services begin at 6:00 PM)
URL:https://templehesed.org/event/services-2/2031-02-14/
LOCATION:Temple Hesed\, 1 Knox Road\, Scranton\, PA\, 18505\, United States
CATEGORIES:calendar,Services
ORGANIZER;CN="Temple Hesed":MAILTO:templehesed@comcast.net
END:VEVENT
BEGIN:VEVENT
DTSTART;TZID=UTC:20310221T190000
DTEND;TZID=UTC:20310221T203000
DTSTAMP:20260422T225219
CREATED:20250428T182543Z
LAST-MODIFIED:20260216T234500Z
UID:10000479-1929466800-1929472200@templehesed.org
SUMMARY:Services
DESCRIPTION:Shabbat services begin at 7:00 PM (except on the First Friday of every month when services begin at 6:00 PM)
URL:https://templehesed.org/event/services-2/2031-02-21/
LOCATION:Temple Hesed\, 1 Knox Road\, Scranton\, PA\, 18505\, United States
CATEGORIES:calendar,Services
ORGANIZER;CN="Temple Hesed":MAILTO:templehesed@comcast.net
END:VEVENT
BEGIN:VEVENT
DTSTART;TZID=UTC:20310228T190000
DTEND;TZID=UTC:20310228T203000
DTSTAMP:20260422T225219
CREATED:20250428T182543Z
LAST-MODIFIED:20260216T234500Z
UID:10000480-1930071600-1930077000@templehesed.org
SUMMARY:Services
DESCRIPTION:Shabbat services begin at 7:00 PM (except on the First Friday of every month when services begin at 6:00 PM)
URL:https://templehesed.org/event/services-2/2031-02-28/
LOCATION:Temple Hesed\, 1 Knox Road\, Scranton\, PA\, 18505\, United States
CATEGORIES:calendar,Services
ORGANIZER;CN="Temple Hesed":MAILTO:templehesed@comcast.net
END:VEVENT
END:VCALENDAR